BEGIN:VCALENDAR
VERSION:2.0
PRODID:-//HDP User Group - ECPv6.10.1.1//NONSGML v1.0//EN
CALSCALE:GREGORIAN
METHOD:PUBLISH
X-ORIGINAL-URL:https://hdpusergroup.org
X-WR-CALDESC:Events for HDP User Group
REFRESH-INTERVAL;VALUE=DURATION:PT1H
X-Robots-Tag:noindex
X-PUBLISHED-TTL:PT1H
BEGIN:VTIMEZONE
TZID:America/Chicago
BEGIN:DAYLIGHT
TZOFFSETFROM:-0600
TZOFFSETTO:-0500
TZNAME:CDT
DTSTART:20220313T080000
END:DAYLIGHT
BEGIN:STANDARD
TZOFFSETFROM:-0500
TZOFFSETTO:-0600
TZNAME:CST
DTSTART:20221106T070000
END:STANDARD
END:VTIMEZONE
BEGIN:VEVENT
DTSTART:20220929T140000Z
DTEND:20220929T150000Z
DTSTAMP:20260421T133235
CREATED:20220901T141420Z
LAST-MODIFIED:20220901T141420Z
UID:23153-1664442000-1664445600@hdpusergroup.org
SUMMARY:Better CAF Eq
DESCRIPTION:Upates from Jason and Hubert 
URL:https://hdpusergroup.org/event/better-caf-eq-22/
CATEGORIES:Better CAF Acceleration Equation
ORGANIZER;CN=HDP:mailto:webmaster@hdpug.org
END:VEVENT
BEGIN:VEVENT
DTSTART:20220929T150000Z
DTEND:20220929T160000Z
DTSTAMP:20260421T133235
CREATED:20220915T152055Z
LAST-MODIFIED:20220915T152055Z
UID:23190-1664445600-1664449200@hdpusergroup.org
SUMMARY:Single Surface Finish meeting
DESCRIPTION:Meeting 
URL:https://hdpusergroup.org/event/single-surface-finish-meeting-17/
CATEGORIES:Single Surface Finish for Soldered & Compression
ORGANIZER;CN=HDP:mailto:webmaster@hdpug.org
END:VEVENT
BEGIN:VEVENT
DTSTART:20220929T190000Z
DTEND:20220929T200000Z
DTSTAMP:20260421T133235
CREATED:20220922T194856Z
LAST-MODIFIED:20220922T194856Z
UID:23220-1664460000-1664463600@hdpusergroup.org
SUMMARY:Cu Surface Treatment vs Loss
DESCRIPTION:Call to discuss validation measurement status 
URL:https://hdpusergroup.org/event/cu-surface-treatment-vs-loss-3/
CATEGORIES:Cu Grain Structure
ORGANIZER;CN=HDP:mailto:webmaster@hdpug.org
END:VEVENT
END:VCALENDAR