BEGIN:VCALENDAR
VERSION:2.0
PRODID:-//HDP User Group - ECPv6.10.1.1//NONSGML v1.0//EN
CALSCALE:GREGORIAN
METHOD:PUBLISH
X-ORIGINAL-URL:https://hdpusergroup.org
X-WR-CALDESC:Events for HDP User Group
REFRESH-INTERVAL;VALUE=DURATION:PT1H
X-Robots-Tag:noindex
X-PUBLISHED-TTL:PT1H
BEGIN:VTIMEZONE
TZID:America/Chicago
BEGIN:DAYLIGHT
TZOFFSETFROM:-0600
TZOFFSETTO:-0500
TZNAME:CDT
DTSTART:20220313T080000
END:DAYLIGHT
BEGIN:STANDARD
TZOFFSETFROM:-0500
TZOFFSETTO:-0600
TZNAME:CST
DTSTART:20221106T070000
END:STANDARD
END:VTIMEZONE
BEGIN:VEVENT
DTSTART:20220712T150000Z
DTEND:20220712T160000Z
DTSTAMP:20260423T052731
CREATED:20220630T122654Z
LAST-MODIFIED:20220630T122654Z
UID:22889-1657620000-1657623600@hdpusergroup.org
SUMMARY:Manage Backdrill Transition Kickoff
DESCRIPTION:Manage Backdrill Transition Kickoff 
URL:https://hdpusergroup.org/event/manage-backdrill-transition-kickoff/
CATEGORIES:Back drill to Primary via Transition
ORGANIZER;CN=HDP:mailto:webmaster@hdpug.org
END:VEVENT
BEGIN:VEVENT
DTSTART:20220712T160000Z
DTEND:20220712T170000Z
DTSTAMP:20260423T052731
CREATED:20220705T122058Z
LAST-MODIFIED:20220705T122058Z
UID:22898-1657623600-1657627200@hdpusergroup.org
SUMMARY:Reduced Cost CAF telecom
DESCRIPTION:Reduced Cost CAF telecom 
URL:https://hdpusergroup.org/event/reduced-cost-caf-telecom/
CATEGORIES:Reduced Cost CAF
ORGANIZER;CN=HDP:mailto:webmaster@hdpug.org
END:VEVENT
BEGIN:VEVENT
DTSTART:20220713T010000Z
DTEND:20220713T020000Z
DTSTAMP:20260423T052731
CREATED:20220624T074026Z
LAST-MODIFIED:20220624T074026Z
UID:22746-1657656000-1657659600@hdpusergroup.org
SUMMARY:LVH Lifetime Predictor for TC Project Call
DESCRIPTION:LVH Lifetime Predictor for TC Project Call 
URL:https://hdpusergroup.org/event/lvh-lifetime-predictor-for-tc-project-call-13/
CATEGORIES:LVH Lifetime Predictor for TC
ORGANIZER;CN=HDP:mailto:webmaster@hdpug.org
END:VEVENT
END:VCALENDAR