BEGIN:VCALENDAR
VERSION:2.0
PRODID:-//HDP User Group - ECPv6.10.1.1//NONSGML v1.0//EN
CALSCALE:GREGORIAN
METHOD:PUBLISH
X-ORIGINAL-URL:https://hdpusergroup.org
X-WR-CALDESC:Events for HDP User Group
REFRESH-INTERVAL;VALUE=DURATION:PT1H
X-Robots-Tag:noindex
X-PUBLISHED-TTL:PT1H
BEGIN:VTIMEZONE
TZID:America/Chicago
BEGIN:DAYLIGHT
TZOFFSETFROM:-0600
TZOFFSETTO:-0500
TZNAME:CDT
DTSTART:20220313T080000
END:DAYLIGHT
BEGIN:STANDARD
TZOFFSETFROM:-0500
TZOFFSETTO:-0600
TZNAME:CST
DTSTART:20221106T070000
END:STANDARD
END:VTIMEZONE
BEGIN:VEVENT
DTSTART:20220706T140000Z
DTEND:20220706T150000Z
DTSTAMP:20260421T181946
CREATED:20220620T153611Z
LAST-MODIFIED:20220620T153611Z
UID:22793-1657098000-1657101600@hdpusergroup.org
SUMMARY:Copper Surface Roughness Model
DESCRIPTION:Copper surfae roughness modeling as a way to determine insertion loss. 
URL:https://hdpusergroup.org/event/copper-surface-roughness-model/
LOCATION:Virtual
CATEGORIES:Staff Calendar
ORGANIZER;CN=HDP:mailto:webmaster@hdpug.org
END:VEVENT
BEGIN:VEVENT
DTSTART:20220706T150000Z
DTEND:20220706T160000Z
DTSTAMP:20260421T181946
CREATED:20220615T155911Z
LAST-MODIFIED:20220615T155911Z
UID:22773-1657101600-1657105200@hdpusergroup.org
SUMMARY:Materials #7 meeting
DESCRIPTION:Meeting 
URL:https://hdpusergroup.org/event/materials-7-meeting-2/
CATEGORIES:Materials #7
ORGANIZER;CN=HDP:mailto:webmaster@hdpug.org
END:VEVENT
BEGIN:VEVENT
DTSTART:20220706T160000Z
DTEND:20220706T170000Z
DTSTAMP:20260421T181946
CREATED:20220624T131000Z
LAST-MODIFIED:20220624T131000Z
UID:22836-1657105200-1657108800@hdpusergroup.org
SUMMARY:TA Method
DESCRIPTION:Project status 
URL:https://hdpusergroup.org/event/ta-method/
CATEGORIES:Thermal Analysis Methodolgy Assessment
ORGANIZER;CN=HDP:mailto:webmaster@hdpug.org
END:VEVENT
BEGIN:VEVENT
DTSTART:20220706T180000Z
DTEND:20220706T190000Z
DTSTAMP:20260421T181946
CREATED:20220706T150936Z
LAST-MODIFIED:20220706T150936Z
UID:22715-1657112400-1657116000@hdpusergroup.org
SUMMARY:Glass Composition
DESCRIPTION:review progress related to glass composition 
URL:https://hdpusergroup.org/event/glass-composition/
LOCATION:Virtual
CATEGORIES:Staff Calendar
ORGANIZER;CN=HDP:mailto:webmaster@hdpug.org
END:VEVENT
END:VCALENDAR