BEGIN:VCALENDAR
VERSION:2.0
PRODID:-//HDP User Group - ECPv6.10.1.1//NONSGML v1.0//EN
CALSCALE:GREGORIAN
METHOD:PUBLISH
X-ORIGINAL-URL:https://hdpusergroup.org
X-WR-CALDESC:Events for HDP User Group
REFRESH-INTERVAL;VALUE=DURATION:PT1H
X-Robots-Tag:noindex
X-PUBLISHED-TTL:PT1H
BEGIN:VTIMEZONE
TZID:America/Chicago
BEGIN:DAYLIGHT
TZOFFSETFROM:-0600
TZOFFSETTO:-0500
TZNAME:CDT
DTSTART:20220313T080000
END:DAYLIGHT
BEGIN:STANDARD
TZOFFSETFROM:-0500
TZOFFSETTO:-0600
TZNAME:CST
DTSTART:20221106T070000
END:STANDARD
END:VTIMEZONE
BEGIN:VEVENT
DTSTART:20220602T190000Z
DTEND:20220602T200000Z
DTSTAMP:20260421T214037
CREATED:20220505T182126Z
LAST-MODIFIED:20220505T182126Z
UID:22523-1654178400-1654182000@hdpusergroup.org
SUMMARY:Cu Surface Roughness Model June 2 meeting
DESCRIPTION:Cu Surface Roughness Model meeting to discuss results of May Members Meeting and Kickoff meeting 
URL:https://hdpusergroup.org/event/cu-surface-roughness-model-june-2-meeting/
LOCATION:Virtual
CATEGORIES:Cu Surface Rougness Model
ORGANIZER;CN=HDP:mailto:webmaster@hdpug.org
END:VEVENT
BEGIN:VEVENT
DTSTART:20220602T190000Z
DTEND:20220602T200000Z
DTSTAMP:20260421T214037
CREATED:20220525T004930Z
LAST-MODIFIED:20220525T004930Z
UID:22529-1654178400-1654182000@hdpusergroup.org
SUMMARY:Microvia Rel
DESCRIPTION:Continue on Project Definition 
URL:https://hdpusergroup.org/event/microvia-rel-11/
CATEGORIES:Microvia Reliability
ORGANIZER;CN=HDP:mailto:webmaster@hdpug.org
END:VEVENT
BEGIN:VEVENT
DTSTART:20220602T200000Z
DTEND:20220602T210000Z
DTSTAMP:20260421T214037
CREATED:20220525T005032Z
LAST-MODIFIED:20220525T005032Z
UID:22527-1654182000-1654185600@hdpusergroup.org
SUMMARY:PCB Feature Min
DESCRIPTION:Status of build 
URL:https://hdpusergroup.org/event/pcb-feature-min-21/
CATEGORIES:PCB Feature Miniaturization
ORGANIZER;CN=HDP:mailto:webmaster@hdpug.org
END:VEVENT
END:VCALENDAR