BEGIN:VCALENDAR
VERSION:2.0
PRODID:-//HDP User Group - ECPv6.10.1.1//NONSGML v1.0//EN
CALSCALE:GREGORIAN
METHOD:PUBLISH
X-ORIGINAL-URL:https://hdpusergroup.org
X-WR-CALDESC:Events for HDP User Group
REFRESH-INTERVAL;VALUE=DURATION:PT1H
X-Robots-Tag:noindex
X-PUBLISHED-TTL:PT1H
BEGIN:VTIMEZONE
TZID:America/Chicago
BEGIN:DAYLIGHT
TZOFFSETFROM:-0600
TZOFFSETTO:-0500
TZNAME:CDT
DTSTART:20220313T080000
END:DAYLIGHT
BEGIN:STANDARD
TZOFFSETFROM:-0500
TZOFFSETTO:-0600
TZNAME:CST
DTSTART:20221106T070000
END:STANDARD
END:VTIMEZONE
BEGIN:VEVENT
DTSTART:20220518T130000Z
DTEND:20220518T220000Z
DTSTAMP:20260421T214003
CREATED:20220523T164439Z
LAST-MODIFIED:20220523T164439Z
UID:22269-1652860800-1652893200@hdpusergroup.org
SUMMARY:HDP May 2022 Member Meeting
DESCRIPTION:The HDP User Group Member Meeting will be held on the 18th and 19th of May\, 2022 in Austin\, Texas – Hosted by NovaCentrix.  Meeting Registration is required.  Please register by clicking the button on this page\, or contacting the HDP Business Manager at kima77@hdpug.org. \nMeeting LocationThe meeting will be held at the UT Commons Conference Center.10100 Burnet Road\, Building 137Austin\, TX 78758 \nHotel InformationHDP has worked with the Embassy Suites\, Arboretum\, to secure a room block at the rate of $149 per night.  Rooms include breakfast\, wifi\, parking\, and a Manager’s Happy Hour from 5:30 pm to 7:00 pm every evening.  Room availability is limited\, and the special rate cannot be guaranteed after April 25th.  Please indicate your reservation needs when registering.  The hotel is located approximately 6 minutes (drive) from the meeting location. \nEmbassy Suites\, Austin Arboretum9505 Stonelake BlvdAustin\, TX 78759 \nCall Information \nCall ics files are available for download at the bottom of this page. \nDay 1 (Wednesday\, 5/18) \n \n \nJoin meeting \nMore ways to join:Join from the meeting link https://hdpug.webex.com/hdpug/j.php?MTID=md804253cc714e2c969bedd17545b0176 \nJoin by meeting numberMeeting number (access code): 2555 991 9075Meeting password: HDPMay1 (4376291 from video systems) \nTap to join from a mobile device (attendees only)+1-650-479-3208\,\,25559919075## Call-in toll number (US/Canada)Join by phone1-650-479-3208 Call-in toll number (US/Canada)Global call-in numbers \n  \nDay 2 (Thursday\, 5/19) \nJoin meetingMore ways to join:Join from the meeting linkhttps://hdpug.webex.com/hdpug/j.php?MTID=m6554f09980b454914fa2bdd081146eb4 \nJoin by meeting numberMeeting number (access code): 2557 931 7973Meeting password: HDPMay2 (4376292 from video systems) \nTap to join from a mobile device (attendees only)+1-650-479-3208\,\,25579317973## Call-in toll number (US/Canada)Join by phone1-650-479-3208 Call-in toll number (US/Canada)Global call-in numbers \n \n  
URL:https://hdpusergroup.org/event/hdp-may-2022-member-meeting/2022-05-18/
LOCATION:UT Commons Conference Center\, Autin\, Texas
CATEGORIES:Member Meetings
ORGANIZER;CN=HDP:mailto:webmaster@hdpug.org
END:VEVENT
END:VCALENDAR