BEGIN:VCALENDAR
VERSION:2.0
PRODID:-//HDP User Group - ECPv6.10.1.1//NONSGML v1.0//EN
CALSCALE:GREGORIAN
METHOD:PUBLISH
X-ORIGINAL-URL:https://hdpusergroup.org
X-WR-CALDESC:Events for HDP User Group
REFRESH-INTERVAL;VALUE=DURATION:PT1H
X-Robots-Tag:noindex
X-PUBLISHED-TTL:PT1H
BEGIN:VTIMEZONE
TZID:America/Chicago
BEGIN:DAYLIGHT
TZOFFSETFROM:-0600
TZOFFSETTO:-0500
TZNAME:CDT
DTSTART:20220313T080000
END:DAYLIGHT
BEGIN:STANDARD
TZOFFSETFROM:-0500
TZOFFSETTO:-0600
TZNAME:CST
DTSTART:20221106T070000
END:STANDARD
END:VTIMEZONE
BEGIN:VEVENT
DTSTART:20220512T173000Z
DTEND:20220512T180000Z
DTSTAMP:20260421T214024
CREATED:20220512T172536Z
LAST-MODIFIED:20220512T172536Z
UID:22567-1652358600-1652360400@hdpusergroup.org
SUMMARY:Call with Matt
DESCRIPTION:Call with matt 
URL:https://hdpusergroup.org/event/call-with-matt/
LOCATION:Virtual
CATEGORIES:Staff Calendar
ORGANIZER;CN=HDP:mailto:webmaster@hdpug.org
END:VEVENT
BEGIN:VEVENT
DTSTART:20220512T180000Z
DTEND:20220512T183000Z
DTSTAMP:20260421T214024
CREATED:20220510T164539Z
LAST-MODIFIED:20220510T164539Z
UID:22555-1652360400-1652362200@hdpusergroup.org
SUMMARY:Presenter Orientation
DESCRIPTION:Orientation session for new virtual presenter.  Smitty\, Larry\, and Kim to attend. 
URL:https://hdpusergroup.org/event/presenter-orientation/
LOCATION:Virtual
CATEGORIES:Staff Calendar
ORGANIZER;CN=HDP:mailto:webmaster@hdpug.org
END:VEVENT
BEGIN:VEVENT
DTSTART:20220512T190000Z
DTEND:20220512T200000Z
DTSTAMP:20260421T214024
CREATED:20220510T200335Z
LAST-MODIFIED:20220510T200335Z
UID:22558-1652364000-1652367600@hdpusergroup.org
SUMMARY:DISC2A
DESCRIPTION:Final cut of presentation 
URL:https://hdpusergroup.org/event/disc2a-48/
CATEGORIES:Digital Speckle Correlation (DSC) 2
ORGANIZER;CN=HDP:mailto:webmaster@hdpug.org
END:VEVENT
BEGIN:VEVENT
DTSTART:20220512T200000Z
DTEND:20220512T210000Z
DTSTAMP:20260421T214024
CREATED:20220428T203543Z
LAST-MODIFIED:20220428T203543Z
UID:22455-1652367600-1652371200@hdpusergroup.org
SUMMARY:Photonic Soldering 2
DESCRIPTION:Status of intial preparations \nLast look at Members' Meeting presentation before submission 
URL:https://hdpusergroup.org/event/photonic-soldering-2-6/
CATEGORIES:Photonic Soldering 2
ORGANIZER;CN=HDP:mailto:webmaster@hdpug.org
END:VEVENT
END:VCALENDAR