BEGIN:VCALENDAR
VERSION:2.0
PRODID:-//HDP User Group - ECPv6.10.1.1//NONSGML v1.0//EN
CALSCALE:GREGORIAN
METHOD:PUBLISH
X-ORIGINAL-URL:https://hdpusergroup.org
X-WR-CALDESC:Events for HDP User Group
REFRESH-INTERVAL;VALUE=DURATION:PT1H
X-Robots-Tag:noindex
X-PUBLISHED-TTL:PT1H
BEGIN:VTIMEZONE
TZID:America/Chicago
BEGIN:DAYLIGHT
TZOFFSETFROM:-0600
TZOFFSETTO:-0500
TZNAME:CDT
DTSTART:20220313T080000
END:DAYLIGHT
BEGIN:STANDARD
TZOFFSETFROM:-0500
TZOFFSETTO:-0600
TZNAME:CST
DTSTART:20221106T070000
END:STANDARD
END:VTIMEZONE
BEGIN:VEVENT
DTSTART:20220505T140000Z
DTEND:20220505T150000Z
DTSTAMP:20260421T213846
CREATED:20220421T150817Z
LAST-MODIFIED:20220421T150817Z
UID:22427-1651741200-1651744800@hdpusergroup.org
SUMMARY:Single Surface Finish meeting
DESCRIPTION:Meeting 
URL:https://hdpusergroup.org/event/single-surface-finish-meeting-11/
CATEGORIES:Single Surface Finish for Soldered & Compression
ORGANIZER;CN=HDP:mailto:webmaster@hdpug.org
END:VEVENT
BEGIN:VEVENT
DTSTART:20220505T170000Z
DTEND:20220505T180000Z
DTSTAMP:20260421T213846
CREATED:20220421T191013Z
LAST-MODIFIED:20220421T191013Z
UID:22428-1651752000-1651755600@hdpusergroup.org
SUMMARY:Cu Surface Roughness Model May 5th 2022 project meeting
DESCRIPTION:Cu Surface Roughness Model May 5th 2022 project meeting 
URL:https://hdpusergroup.org/event/cu-surface-roughness-model-may-5th-2022-project-meeting/
LOCATION:Virtual
CATEGORIES:Cu Surface Rougness Model
ORGANIZER;CN=HDP:mailto:webmaster@hdpug.org
END:VEVENT
BEGIN:VEVENT
DTSTART:20220505T190000Z
DTEND:20220505T200000Z
DTSTAMP:20260421T213846
CREATED:20220425T173017Z
LAST-MODIFIED:20220425T173017Z
UID:22445-1651759200-1651762800@hdpusergroup.org
SUMMARY:Microvia Rel
DESCRIPTION:See if Paul has obtained a fabricator for the project 
URL:https://hdpusergroup.org/event/microvia-rel-10/
CATEGORIES:Microvia Reliability
ORGANIZER;CN=HDP:mailto:webmaster@hdpug.org
END:VEVENT
BEGIN:VEVENT
DTSTART:20220505T200000Z
DTEND:20220505T210000Z
DTSTAMP:20260421T213846
CREATED:20220331T191632Z
LAST-MODIFIED:20220331T191632Z
UID:22336-1651762800-1651766400@hdpusergroup.org
SUMMARY:PCB Feature Min
DESCRIPTION:Status of board build\, electrical test\, x-sections and maybe first CITC coupons 
URL:https://hdpusergroup.org/event/pcb-feature-min-20/
CATEGORIES:PCB Feature Miniaturization
ORGANIZER;CN=HDP:mailto:webmaster@hdpug.org
END:VEVENT
BEGIN:VEVENT
DTSTART:20220506T000000Z
DTEND:20220506T010000Z
DTSTAMP:20260421T213846
CREATED:20220503T114651Z
LAST-MODIFIED:20220503T114651Z
UID:22471-1651777200-1651780800@hdpusergroup.org
SUMMARY:QFN for Auto Project Call
DESCRIPTION:Discuss final report 
URL:https://hdpusergroup.org/event/qfn-for-auto-project-call/
LOCATION:Virtual
CATEGORIES:Reliability of Wettable Flank in Routable QFN for Automotive
ORGANIZER;CN=HDP:mailto:webmaster@hdpug.org
END:VEVENT
END:VCALENDAR