BEGIN:VCALENDAR
VERSION:2.0
PRODID:-//HDP User Group - ECPv6.10.1.1//NONSGML v1.0//EN
CALSCALE:GREGORIAN
METHOD:PUBLISH
X-ORIGINAL-URL:https://hdpusergroup.org
X-WR-CALDESC:Events for HDP User Group
REFRESH-INTERVAL;VALUE=DURATION:PT1H
X-Robots-Tag:noindex
X-PUBLISHED-TTL:PT1H
BEGIN:VTIMEZONE
TZID:America/Chicago
BEGIN:DAYLIGHT
TZOFFSETFROM:-0600
TZOFFSETTO:-0500
TZNAME:CDT
DTSTART:20220313T080000
END:DAYLIGHT
BEGIN:STANDARD
TZOFFSETFROM:-0500
TZOFFSETTO:-0600
TZNAME:CST
DTSTART:20221106T070000
END:STANDARD
END:VTIMEZONE
BEGIN:VEVENT
DTSTART:20220504T150000Z
DTEND:20220504T160000Z
DTSTAMP:20260421T232246
CREATED:20220414T154939Z
LAST-MODIFIED:20220414T154939Z
UID:22393-1651658400-1651662000@hdpusergroup.org
SUMMARY:Materials #6 meeting
DESCRIPTION:Meeting 
URL:https://hdpusergroup.org/event/materials-6-meeting-18/
CATEGORIES:Lead Free PWB Materials Reliability Phase 6
ORGANIZER;CN=HDP:mailto:webmaster@hdpug.org
END:VEVENT
BEGIN:VEVENT
DTSTART:20220505T020000Z
DTEND:20220505T030000Z
DTSTAMP:20260421T232246
CREATED:20220504T022534Z
LAST-MODIFIED:20220504T022534Z
UID:22469-1651698000-1651701600@hdpusergroup.org
SUMMARY:Grace Electron and HPD User Group Introductory Meeting
DESCRIPTION:Grace Electron and HPD User Group Introductory Meeting 
URL:https://hdpusergroup.org/event/grace-electron-and-hpd-user-group-introductory-meeting/
CATEGORIES:Staff Calendar
ORGANIZER;CN=HDP:mailto:webmaster@hdpug.org
END:VEVENT
END:VCALENDAR