BEGIN:VCALENDAR
VERSION:2.0
PRODID:-//HDP User Group - ECPv6.10.1.1//NONSGML v1.0//EN
CALSCALE:GREGORIAN
METHOD:PUBLISH
X-ORIGINAL-URL:https://hdpusergroup.org
X-WR-CALDESC:Events for HDP User Group
REFRESH-INTERVAL;VALUE=DURATION:PT1H
X-Robots-Tag:noindex
X-PUBLISHED-TTL:PT1H
BEGIN:VTIMEZONE
TZID:America/Chicago
BEGIN:DAYLIGHT
TZOFFSETFROM:-0600
TZOFFSETTO:-0500
TZNAME:CDT
DTSTART:20220313T080000
END:DAYLIGHT
BEGIN:STANDARD
TZOFFSETFROM:-0500
TZOFFSETTO:-0600
TZNAME:CST
DTSTART:20221106T070000
END:STANDARD
END:VTIMEZONE
BEGIN:VEVENT
DTSTART:20220404T140000Z
DTEND:20220404T150000Z
DTSTAMP:20260422T063206
CREATED:20220331T204011Z
LAST-MODIFIED:20220331T204011Z
UID:22337-1649062800-1649066400@hdpusergroup.org
SUMMARY:Call to discuss HDP membership - Daikin - America
DESCRIPTION:General discussion 
URL:https://hdpusergroup.org/event/call-to-discuss-hdp-membership-daikin-america/
LOCATION:Virtual
CATEGORIES:Staff Calendar
ORGANIZER;CN=HDP:mailto:webmaster@hdpug.org
END:VEVENT
BEGIN:VEVENT
DTSTART:20220404T150000Z
DTEND:20220404T160000Z
DTSTAMP:20260422T063206
CREATED:20220119T201134Z
LAST-MODIFIED:20220119T201134Z
UID:21831-1649066400-1649070000@hdpusergroup.org
SUMMARY:Cu Surface Roughness Model project meeting of April 4th
DESCRIPTION:Continuation of discussion on Cu Surface Roughness Model project. 
URL:https://hdpusergroup.org/event/cu-surface-roughness-model-project-meeting-of-april-4th/
LOCATION:Virtual
CATEGORIES:Cu Surface Rougness Model
ORGANIZER;CN=HDP:mailto:webmaster@hdpug.org
END:VEVENT
BEGIN:VEVENT
DTSTART:20220404T180000Z
DTEND:20220404T190000Z
DTSTAMP:20260422T063206
CREATED:20220328T184356Z
LAST-MODIFIED:20220328T184356Z
UID:22318-1649077200-1649080800@hdpusergroup.org
SUMMARY:DISC2A
DESCRIPTION:Hopefully a look at the first part of the final report 
URL:https://hdpusergroup.org/event/disc2a-44/
CATEGORIES:Digital Speckle Correlation (DSC) 2
ORGANIZER;CN=HDP:mailto:webmaster@hdpug.org
END:VEVENT
BEGIN:VEVENT
DTSTART:20220404T190000Z
DTEND:20220404T200000Z
DTSTAMP:20260422T063206
CREATED:20220325T185523Z
LAST-MODIFIED:20220325T185523Z
UID:22310-1649080800-1649084400@hdpusergroup.org
SUMMARY:Microvia Rel
DESCRIPTION:Continue discussion 
URL:https://hdpusergroup.org/event/microvia-rel-7/
CATEGORIES:Microvia Reliability
ORGANIZER;CN=HDP:mailto:webmaster@hdpug.org
END:VEVENT
END:VCALENDAR