BEGIN:VCALENDAR
VERSION:2.0
PRODID:-//HDP User Group - ECPv6.10.1.1//NONSGML v1.0//EN
CALSCALE:GREGORIAN
METHOD:PUBLISH
X-ORIGINAL-URL:https://hdpusergroup.org
X-WR-CALDESC:Events for HDP User Group
REFRESH-INTERVAL;VALUE=DURATION:PT1H
X-Robots-Tag:noindex
X-PUBLISHED-TTL:PT1H
BEGIN:VTIMEZONE
TZID:America/Chicago
BEGIN:DAYLIGHT
TZOFFSETFROM:-0600
TZOFFSETTO:-0500
TZNAME:CDT
DTSTART:20220313T080000
END:DAYLIGHT
BEGIN:STANDARD
TZOFFSETFROM:-0500
TZOFFSETTO:-0600
TZNAME:CST
DTSTART:20221106T070000
END:STANDARD
END:VTIMEZONE
BEGIN:VEVENT
DTSTART:20220323T170000Z
DTEND:20220323T180000Z
DTSTAMP:20260422T100339
CREATED:20220128T193917Z
LAST-MODIFIED:20220308T214036Z
UID:21883-1648036800-1648040400@hdpusergroup.org
SUMMARY:Low Ag Alloy Solderpaste -BGA leg project meeting
DESCRIPTION:Low Ag Alloy Solderpaste -BGA leg project meeting 
URL:https://hdpusergroup.org/event/low-ag-alloy-solderpaste-bga-leg-project-meeting-2022-03-23/2022-03-23/
LOCATION:Virtual
CATEGORIES:Low Ag Alloy Solderpaste Reliability – BGA Leg
ORGANIZER;CN=HDP:mailto:webmaster@hdpug.org
END:VEVENT
BEGIN:VEVENT
DTSTART:20220323T183000Z
DTEND:20220323T200000Z
DTSTAMP:20260422T100339
CREATED:20220310T220307Z
LAST-MODIFIED:20220310T220307Z
UID:22252-1648042200-1648047600@hdpusergroup.org
SUMMARY:Glass Type Composition project meeting with Alun Morgan
DESCRIPTION:Glass Type Composition project meeting with Alun Morgan (invited guest speaker) 
URL:https://hdpusergroup.org/event/glass-type-composition-project-meeting-with-alun-morgan/
LOCATION:Virtual
CATEGORIES:Glass Type Composition
ORGANIZER;CN=HDP:mailto:webmaster@hdpug.org
END:VEVENT
END:VCALENDAR