BEGIN:VCALENDAR
VERSION:2.0
PRODID:-//HDP User Group - ECPv6.10.1.1//NONSGML v1.0//EN
CALSCALE:GREGORIAN
METHOD:PUBLISH
X-ORIGINAL-URL:https://hdpusergroup.org
X-WR-CALDESC:Events for HDP User Group
REFRESH-INTERVAL;VALUE=DURATION:PT1H
X-Robots-Tag:noindex
X-PUBLISHED-TTL:PT1H
BEGIN:VTIMEZONE
TZID:America/Chicago
BEGIN:DAYLIGHT
TZOFFSETFROM:-0600
TZOFFSETTO:-0500
TZNAME:CDT
DTSTART:20220313T080000
END:DAYLIGHT
BEGIN:STANDARD
TZOFFSETFROM:-0500
TZOFFSETTO:-0600
TZNAME:CST
DTSTART:20221106T070000
END:STANDARD
END:VTIMEZONE
BEGIN:VEVENT
DTSTART:20220224T140000Z
DTEND:20220224T150000Z
DTSTAMP:20260422T114239
CREATED:20220222T233014Z
LAST-MODIFIED:20220222T233014Z
UID:22053-1645689600-1645693200@hdpusergroup.org
SUMMARY:DISC2A
DESCRIPTION:Hua to explain the back drill results to Thilo. \nStart working on final report 
URL:https://hdpusergroup.org/event/disc2a-42/
CATEGORIES:Digital Speckle Correlation (DSC) 2
ORGANIZER;CN=HDP:mailto:webmaster@hdpug.org
END:VEVENT
BEGIN:VEVENT
DTSTART:20220224T160000Z
DTEND:20220224T170000Z
DTSTAMP:20260422T114239
CREATED:20220202T180017Z
LAST-MODIFIED:20220202T180017Z
UID:21914-1645696800-1645700400@hdpusergroup.org
SUMMARY:Microvia reliability
DESCRIPTION:Continued Discussion 
URL:https://hdpusergroup.org/event/microvia-reliability-2/
CATEGORIES:Microvia Reliability
ORGANIZER;CN=HDP:mailto:webmaster@hdpug.org
END:VEVENT
END:VCALENDAR