BEGIN:VCALENDAR
VERSION:2.0
PRODID:-//HDP User Group - ECPv6.10.1.1//NONSGML v1.0//EN
CALSCALE:GREGORIAN
METHOD:PUBLISH
X-ORIGINAL-URL:https://hdpusergroup.org
X-WR-CALDESC:Events for HDP User Group
REFRESH-INTERVAL;VALUE=DURATION:PT1H
X-Robots-Tag:noindex
X-PUBLISHED-TTL:PT1H
BEGIN:VTIMEZONE
TZID:America/Chicago
BEGIN:DAYLIGHT
TZOFFSETFROM:-0600
TZOFFSETTO:-0500
TZNAME:CDT
DTSTART:20220313T080000
END:DAYLIGHT
BEGIN:STANDARD
TZOFFSETFROM:-0500
TZOFFSETTO:-0600
TZNAME:CST
DTSTART:20221106T070000
END:STANDARD
END:VTIMEZONE
BEGIN:VEVENT
DTSTART:20220215T180000Z
DTEND:20220215T190000Z
DTSTAMP:20260422T114236
CREATED:20220202T173205Z
LAST-MODIFIED:20220202T173205Z
UID:21913-1644926400-1644930000@hdpusergroup.org
SUMMARY:Harsh Use Alloy Project Call
DESCRIPTION:Periodic project call 
URL:https://hdpusergroup.org/event/harsh-use-alloy-project-call-8/
CATEGORIES:Harsh Use Alloy Evaluation 2
ORGANIZER;CN=HDP:mailto:webmaster@hdpug.org
END:VEVENT
BEGIN:VEVENT
DTSTART:20220215T210000Z
DTEND:20220215T220000Z
DTSTAMP:20260422T114236
CREATED:20220215T165717Z
LAST-MODIFIED:20220215T165717Z
UID:21969-1644937200-1644940800@hdpusergroup.org
SUMMARY:Test of Devan's Webex
DESCRIPTION:Quick Call to check Devan's webex 
URL:https://hdpusergroup.org/event/test-of-devans-webex/
LOCATION:Virtual
CATEGORIES:Staff Calendar
ORGANIZER;CN=HDP:mailto:webmaster@hdpug.org
END:VEVENT
BEGIN:VEVENT
DTSTART:20220216T020000Z
DTEND:20220216T030000Z
DTSTAMP:20260422T114236
CREATED:20211215T023123Z
LAST-MODIFIED:20211215T023123Z
UID:21573-1644955200-1644958800@hdpusergroup.org
SUMMARY:High Speed Hybrid PWB Project Call
DESCRIPTION:High Speed Hybrid PWB Project Call 
URL:https://hdpusergroup.org/event/high-speed-hybrid-pwb-project-call-38/
CATEGORIES:High Speed Hybrid PWB
ORGANIZER;CN=HDP:mailto:webmaster@hdpug.org
END:VEVENT
END:VCALENDAR