BEGIN:VCALENDAR
VERSION:2.0
PRODID:-//HDP User Group - ECPv6.10.1.1//NONSGML v1.0//EN
CALSCALE:GREGORIAN
METHOD:PUBLISH
X-ORIGINAL-URL:https://hdpusergroup.org
X-WR-CALDESC:Events for HDP User Group
REFRESH-INTERVAL;VALUE=DURATION:PT1H
X-Robots-Tag:noindex
X-PUBLISHED-TTL:PT1H
BEGIN:VTIMEZONE
TZID:America/Chicago
BEGIN:DAYLIGHT
TZOFFSETFROM:-0600
TZOFFSETTO:-0500
TZNAME:CDT
DTSTART:20220313T080000
END:DAYLIGHT
BEGIN:STANDARD
TZOFFSETFROM:-0500
TZOFFSETTO:-0600
TZNAME:CST
DTSTART:20221106T070000
END:STANDARD
END:VTIMEZONE
BEGIN:VEVENT
DTSTART:20220119T150000Z
DTEND:20220119T160000Z
DTSTAMP:20260422T130913
CREATED:20220112T170323Z
LAST-MODIFIED:20220112T170323Z
UID:21778-1642582800-1642586400@hdpusergroup.org
SUMMARY:Microvia Rel
DESCRIPTION:Continue working on determining project direction 
URL:https://hdpusergroup.org/event/microvia-rel-3/
CATEGORIES:Microvia Reliability
ORGANIZER;CN=HDP:mailto:webmaster@hdpug.org
END:VEVENT
BEGIN:VEVENT
DTSTART:20220119T160000Z
DTEND:20220119T170000Z
DTSTAMP:20260422T130913
CREATED:20211217T001710Z
LAST-MODIFIED:20211217T001710Z
UID:21711-1642586400-1642590000@hdpusergroup.org
SUMMARY:Single Surface Finish Meeting
DESCRIPTION:Meeting 
URL:https://hdpusergroup.org/event/single-surface-finish-meeting-7/
CATEGORIES:Single Surface Finish for Soldered & Compression
ORGANIZER;CN=HDP:mailto:webmaster@hdpug.org
END:VEVENT
BEGIN:VEVENT
DTSTART:20220119T200000Z
DTEND:20220119T210000Z
DTSTAMP:20260422T130913
CREATED:20211215T201352Z
LAST-MODIFIED:20211215T201352Z
UID:21588-1642600800-1642604400@hdpusergroup.org
SUMMARY:PCB Feature Min
DESCRIPTION:Progress report from Calumet 
URL:https://hdpusergroup.org/event/pcb-feature-min-16/
CATEGORIES:PCB Feature Miniaturization
ORGANIZER;CN=HDP:mailto:webmaster@hdpug.org
END:VEVENT
END:VCALENDAR