BEGIN:VCALENDAR
VERSION:2.0
PRODID:-//HDP User Group - ECPv6.10.1.1//NONSGML v1.0//EN
CALSCALE:GREGORIAN
METHOD:PUBLISH
X-ORIGINAL-URL:https://hdpusergroup.org
X-WR-CALDESC:Events for HDP User Group
REFRESH-INTERVAL;VALUE=DURATION:PT1H
X-Robots-Tag:noindex
X-PUBLISHED-TTL:PT1H
BEGIN:VTIMEZONE
TZID:America/Chicago
BEGIN:DAYLIGHT
TZOFFSETFROM:-0600
TZOFFSETTO:-0500
TZNAME:CDT
DTSTART:20210314T080000
END:DAYLIGHT
BEGIN:STANDARD
TZOFFSETFROM:-0500
TZOFFSETTO:-0600
TZNAME:CST
DTSTART:20211107T070000
END:STANDARD
END:VTIMEZONE
BEGIN:VEVENT
DTSTART:20211209T140000Z
DTEND:20211209T150000Z
DTSTAMP:20260422T144606
CREATED:20211126T212217Z
LAST-MODIFIED:20211126T212217Z
UID:21471-1639036800-1639040400@hdpusergroup.org
SUMMARY:DISC2A
DESCRIPTION:Hua's latest results 
URL:https://hdpusergroup.org/event/disc2a-37/
CATEGORIES:Digital Speckle Correlation (DSC) 2
ORGANIZER;CN=HDP:mailto:webmaster@hdpug.org
END:VEVENT
BEGIN:VEVENT
DTSTART:20211209T150000Z
DTEND:20211209T160000Z
DTSTAMP:20260422T144606
CREATED:20211119T222517Z
LAST-MODIFIED:20211119T222517Z
UID:21437-1639040400-1639044000@hdpusergroup.org
SUMMARY:Microvia Discussion 2
DESCRIPTION:Follow up discussion on project idea 
URL:https://hdpusergroup.org/event/microvia-discussion-2/
CATEGORIES:Staff Calendar
ORGANIZER;CN=HDP:mailto:webmaster@hdpug.org
END:VEVENT
BEGIN:VEVENT
DTSTART:20211209T160000Z
DTEND:20211209T170000Z
DTSTAMP:20260422T144606
CREATED:20211116T162754Z
LAST-MODIFIED:20211116T162754Z
UID:21427-1639044000-1639047600@hdpusergroup.org
SUMMARY:Innerlayer Copper Balancing telecom
DESCRIPTION:Innerlayer Copper Balancing telecom 
URL:https://hdpusergroup.org/event/innerlayer-copper-balancing-telecom-15/
CATEGORIES:Local Copper Density
ORGANIZER;CN=HDP:mailto:webmaster@hdpug.org
END:VEVENT
BEGIN:VEVENT
DTSTART:20211209T210000Z
DTEND:20211209T220000Z
DTSTAMP:20260422T144606
CREATED:20211202T232754Z
LAST-MODIFIED:20211202T232754Z
UID:21494-1639062000-1639065600@hdpusergroup.org
SUMMARY:Photonic Soldering II
DESCRIPTION:Moving toward Implementation 
URL:https://hdpusergroup.org/event/photonic-soldering-ii-9/
CATEGORIES:Photonic Soldering 2
ORGANIZER;CN=HDP:mailto:webmaster@hdpug.org
END:VEVENT
END:VCALENDAR