BEGIN:VCALENDAR
VERSION:2.0
PRODID:-//HDP User Group - ECPv6.10.1.1//NONSGML v1.0//EN
CALSCALE:GREGORIAN
METHOD:PUBLISH
X-ORIGINAL-URL:https://hdpusergroup.org
X-WR-CALDESC:Events for HDP User Group
REFRESH-INTERVAL;VALUE=DURATION:PT1H
X-Robots-Tag:noindex
X-PUBLISHED-TTL:PT1H
BEGIN:VTIMEZONE
TZID:America/Chicago
BEGIN:DAYLIGHT
TZOFFSETFROM:-0600
TZOFFSETTO:-0500
TZNAME:CDT
DTSTART:20210314T080000
END:DAYLIGHT
BEGIN:STANDARD
TZOFFSETFROM:-0500
TZOFFSETTO:-0600
TZNAME:CST
DTSTART:20211107T070000
END:STANDARD
END:VTIMEZONE
BEGIN:VEVENT
DTSTART:20210728T130000Z
DTEND:20210728T140000Z
DTSTAMP:20260423T070120
CREATED:20210714T131653Z
LAST-MODIFIED:20210714T131653Z
UID:20206-1627459200-1627462800@hdpusergroup.org
SUMMARY:DISC2A
DESCRIPTION:Update on backdrill samples being prepared. 
URL:https://hdpusergroup.org/event/disc2a-31/
CATEGORIES:Digital Speckle Correlation (DSC) 2
ORGANIZER;CN=HDP:mailto:webmaster@hdpug.org
END:VEVENT
BEGIN:VEVENT
DTSTART:20210728T140000Z
DTEND:20210728T150000Z
DTSTAMP:20260423T070120
CREATED:20210624T183630Z
LAST-MODIFIED:20210624T183630Z
UID:20123-1627462800-1627466400@hdpusergroup.org
SUMMARY:ECM 2 Project Call
DESCRIPTION:Meeting 
URL:https://hdpusergroup.org/event/ecm-2-project-call-7/
CATEGORIES:Electro-Chemical Migration 2
ORGANIZER;CN=HDP:mailto:webmaster@hdpug.org
END:VEVENT
BEGIN:VEVENT
DTSTART:20210728T160000Z
DTEND:20210728T170000Z
DTSTAMP:20260423T070120
CREATED:20210719T205927Z
LAST-MODIFIED:20210719T205927Z
UID:20251-1627470000-1627473600@hdpusergroup.org
SUMMARY:Thermal Analysis Methodology Assessment July 28\, 2021 project meeting
DESCRIPTION:Thermal Analysis Methodology Assessment July 28\, 2021 project meeting 
URL:https://hdpusergroup.org/event/thermal-analysis-methodology-assessment-july-28-2021-project-meeting/
LOCATION:WebEx
CATEGORIES:Thermal Analysis Methodolgy Assessment
ORGANIZER;CN=HDP:mailto:webmaster@hdpug.org
END:VEVENT
BEGIN:VEVENT
DTSTART:20210728T170000Z
DTEND:20210728T180000Z
DTSTAMP:20260423T070120
CREATED:20210719T204925Z
LAST-MODIFIED:20210719T204925Z
UID:20249-1627473600-1627477200@hdpusergroup.org
SUMMARY:Low Ag Alloy Solderpaste July 28\, 2021 project meeting
DESCRIPTION:Low Ag Alloy Solderpaste July 28\, 2021 project meeting 
URL:https://hdpusergroup.org/event/low-ag-alloy-solderpaste-july-28-2021-project-meeting/
LOCATION:WebEx
CATEGORIES:Low Ag Alloy Solderpaste Reliability – BGA Leg
ORGANIZER;CN=HDP:mailto:webmaster@hdpug.org
END:VEVENT
END:VCALENDAR