BEGIN:VCALENDAR
VERSION:2.0
PRODID:-//HDP User Group - ECPv6.10.1.1//NONSGML v1.0//EN
CALSCALE:GREGORIAN
METHOD:PUBLISH
X-ORIGINAL-URL:https://hdpusergroup.org
X-WR-CALDESC:Events for HDP User Group
REFRESH-INTERVAL;VALUE=DURATION:PT1H
X-Robots-Tag:noindex
X-PUBLISHED-TTL:PT1H
BEGIN:VTIMEZONE
TZID:America/Chicago
BEGIN:DAYLIGHT
TZOFFSETFROM:-0600
TZOFFSETTO:-0500
TZNAME:CDT
DTSTART:20210314T080000
END:DAYLIGHT
BEGIN:STANDARD
TZOFFSETFROM:-0500
TZOFFSETTO:-0600
TZNAME:CST
DTSTART:20211107T070000
END:STANDARD
END:VTIMEZONE
BEGIN:VEVENT
DTSTART:20210720T170000Z
DTEND:20210720T180000Z
DTSTAMP:20260423T070210
CREATED:20210705T194742Z
LAST-MODIFIED:20210705T194742Z
UID:20151-1626782400-1626786000@hdpusergroup.org
SUMMARY:Harsh Use Alloy Eval Project Review Call
DESCRIPTION:Rescheduled Project Review Call 
URL:https://hdpusergroup.org/event/harsh-use-alloy-eval-project-review-call/
CATEGORIES:Harsh Use Alloy Evaluation 2
ORGANIZER;CN=HDP:mailto:webmaster@hdpug.org
END:VEVENT
BEGIN:VEVENT
DTSTART:20210720T190000Z
DTEND:20210720T200000Z
DTSTAMP:20260423T070210
CREATED:20210713T191020Z
LAST-MODIFIED:20210713T191020Z
UID:20204-1626789600-1626793200@hdpusergroup.org
SUMMARY:PCB Feature Min
DESCRIPTION:Status of build 
URL:https://hdpusergroup.org/event/pcb-feature-min-11/
CATEGORIES:PCB Feature Miniaturization
ORGANIZER;CN=HDP:mailto:webmaster@hdpug.org
END:VEVENT
END:VCALENDAR