BEGIN:VCALENDAR
VERSION:2.0
PRODID:-//HDP User Group - ECPv6.10.1.1//NONSGML v1.0//EN
CALSCALE:GREGORIAN
METHOD:PUBLISH
X-ORIGINAL-URL:https://hdpusergroup.org
X-WR-CALDESC:Events for HDP User Group
REFRESH-INTERVAL;VALUE=DURATION:PT1H
X-Robots-Tag:noindex
X-PUBLISHED-TTL:PT1H
BEGIN:VTIMEZONE
TZID:America/Chicago
BEGIN:DAYLIGHT
TZOFFSETFROM:-0600
TZOFFSETTO:-0500
TZNAME:CDT
DTSTART:20210314T080000
END:DAYLIGHT
BEGIN:STANDARD
TZOFFSETFROM:-0500
TZOFFSETTO:-0600
TZNAME:CST
DTSTART:20211107T070000
END:STANDARD
END:VTIMEZONE
BEGIN:VEVENT
DTSTART:20210630T150000Z
DTEND:20210630T160000Z
DTSTAMP:20260423T070155
CREATED:20210609T160101Z
LAST-MODIFIED:20210609T160101Z
UID:20054-1625047200-1625050800@hdpusergroup.org
SUMMARY:Materials #6 meeting
DESCRIPTION:Meeting 
URL:https://hdpusergroup.org/event/materials-6-meeting-6/
CATEGORIES:Lead Free PWB Materials Reliability Phase 6
ORGANIZER;CN=HDP:mailto:webmaster@hdpug.org
END:VEVENT
BEGIN:VEVENT
DTSTART:20210630T160000Z
DTEND:20210630T170000Z
DTSTAMP:20260423T070155
CREATED:20210621T170522Z
LAST-MODIFIED:20210621T170522Z
UID:20107-1625050800-1625054400@hdpusergroup.org
SUMMARY:Thermal Analysis Methodology Evaluation June 30\, 2021 project meeting
DESCRIPTION:Thermal Analysis Methodology Evaluation June 30\, 2021 project meeting 
URL:https://hdpusergroup.org/event/thermal-analysis-methodology-evaluation-june-30-2021-project-meeting/
LOCATION:WebEx
CATEGORIES:Thermal Analysis Methodolgy Assessment
ORGANIZER;CN=HDP:mailto:webmaster@hdpug.org
END:VEVENT
BEGIN:VEVENT
DTSTART:20210630T170000Z
DTEND:20210630T180000Z
DTSTAMP:20260423T070155
CREATED:20210524T192101Z
LAST-MODIFIED:20210524T192101Z
UID:19962-1625054400-1625058000@hdpusergroup.org
SUMMARY:Low Ag Alloy Solder paste BGA leg project meeting of June 30\, 2021
DESCRIPTION: Low Ag Alloy Solder paste BGA leg project meeting of June 30\, 2021
URL:https://hdpusergroup.org/event/low-ag-alloy-solder-paste-bga-leg-project-meeting-of-june-30-2021/
LOCATION:WebEx
CATEGORIES:Low Ag Alloy Solderpaste Reliability – BGA Leg
ORGANIZER;CN=HDP:mailto:webmaster@hdpug.org
END:VEVENT
BEGIN:VEVENT
DTSTART:20210701T000000Z
DTEND:20210701T010000Z
DTSTAMP:20260423T070155
CREATED:20210615T143136Z
LAST-MODIFIED:20210615T143136Z
UID:20078-1625079600-1625083200@hdpusergroup.org
SUMMARY:Reliability of Wettable Flank in Routable QFN for Automotive Project Call
DESCRIPTION:Review latest test results 
URL:https://hdpusergroup.org/event/reliability-of-wettable-flank-in-routable-qfn-for-automotive-project-call-14/
CATEGORIES:Reliability of Wettable Flank in Routable QFN for Automotive
ORGANIZER;CN=HDP:mailto:webmaster@hdpug.org
END:VEVENT
END:VCALENDAR