BEGIN:VCALENDAR
VERSION:2.0
PRODID:-//HDP User Group - ECPv6.10.1.1//NONSGML v1.0//EN
CALSCALE:GREGORIAN
METHOD:PUBLISH
X-ORIGINAL-URL:https://hdpusergroup.org
X-WR-CALDESC:Events for HDP User Group
REFRESH-INTERVAL;VALUE=DURATION:PT1H
X-Robots-Tag:noindex
X-PUBLISHED-TTL:PT1H
BEGIN:VTIMEZONE
TZID:America/Chicago
BEGIN:DAYLIGHT
TZOFFSETFROM:-0600
TZOFFSETTO:-0500
TZNAME:CDT
DTSTART:20210314T080000
END:DAYLIGHT
BEGIN:STANDARD
TZOFFSETFROM:-0500
TZOFFSETTO:-0600
TZNAME:CST
DTSTART:20211107T070000
END:STANDARD
END:VTIMEZONE
BEGIN:VEVENT
DTSTART:20210526T010000Z
DTEND:20210526T033000Z
DTSTAMP:20260423T100647
CREATED:20210825T135826Z
LAST-MODIFIED:20210825T135826Z
UID:19556-1621972800-1621981800@hdpusergroup.org
SUMMARY:HDP May 2021 Virtual Member Meeting Asia
DESCRIPTION:Virtual meeting to review project ideas and project updates.  Meeting is for members only.  \nMeeting Call Information \nHDP May 2021 Virtual Member Meeting AsiaTuesday\, May 25\, 20218:00 PM  |  (UTC-05:00) Central Time (US & Canada)  |  2 hrs 30 minsGlobal call-in numbersMeeting number (access code): 182 142 0860Meeting password: HDPMayAsiaWhen it’s time\, join the meetingJoin by phone1-650-479-3208 Call-in toll number (US/Canada)Global call-in numbers \n \n  
URL:https://hdpusergroup.org/event/hdp-may-2021-virtual-member-meeting-asia/
CATEGORIES:Member Meetings
ORGANIZER;CN=HDP:mailto:webmaster@hdpug.org
END:VEVENT
END:VCALENDAR