BEGIN:VCALENDAR
VERSION:2.0
PRODID:-//HDP User Group - ECPv6.10.1.1//NONSGML v1.0//EN
CALSCALE:GREGORIAN
METHOD:PUBLISH
X-ORIGINAL-URL:https://hdpusergroup.org
X-WR-CALDESC:Events for HDP User Group
REFRESH-INTERVAL;VALUE=DURATION:PT1H
X-Robots-Tag:noindex
X-PUBLISHED-TTL:PT1H
BEGIN:VTIMEZONE
TZID:America/Chicago
BEGIN:DAYLIGHT
TZOFFSETFROM:-0600
TZOFFSETTO:-0500
TZNAME:CDT
DTSTART:20210314T080000
END:DAYLIGHT
BEGIN:STANDARD
TZOFFSETFROM:-0500
TZOFFSETTO:-0600
TZNAME:CST
DTSTART:20211107T070000
END:STANDARD
END:VTIMEZONE
BEGIN:VEVENT
DTSTART:20210506T140000Z
DTEND:20210506T150000Z
DTSTAMP:20260423T100414
CREATED:20210204T142536Z
LAST-MODIFIED:20210204T142536Z
UID:19200-1620291600-1620295200@hdpusergroup.org
SUMMARY:PFH Technology 2 Project Call
DESCRIPTION:PFH Technology 2 Project Call 
URL:https://hdpusergroup.org/event/pfh-technology-2-project-call/
CATEGORIES:PFH Technology 2
ORGANIZER;CN=HDP:mailto:webmaster@hdpug.org
END:VEVENT
BEGIN:VEVENT
DTSTART:20210506T180000Z
DTEND:20210506T190000Z
DTSTAMP:20260423T100414
CREATED:20210426T191508Z
LAST-MODIFIED:20210426T191508Z
UID:19707-1620306000-1620309600@hdpusergroup.org
SUMMARY:HDP Cu Peel Strength P2 project May 6\, 2021 meeting
DESCRIPTION:HDP Cu Peel Strength P2 project May 6\, 2021 meeting 
URL:https://hdpusergroup.org/event/hdp-cu-peel-strength-p2-project-may-6-2021-meeting/
LOCATION:WebEx
CATEGORIES:Cu Peel Strength 2
ORGANIZER;CN=HDP:mailto:webmaster@hdpug.org
END:VEVENT
END:VCALENDAR