BEGIN:VCALENDAR
VERSION:2.0
PRODID:-//HDP User Group - ECPv6.10.1.1//NONSGML v1.0//EN
CALSCALE:GREGORIAN
METHOD:PUBLISH
X-ORIGINAL-URL:https://hdpusergroup.org
X-WR-CALDESC:Events for HDP User Group
REFRESH-INTERVAL;VALUE=DURATION:PT1H
X-Robots-Tag:noindex
X-PUBLISHED-TTL:PT1H
BEGIN:VTIMEZONE
TZID:America/Chicago
BEGIN:DAYLIGHT
TZOFFSETFROM:-0600
TZOFFSETTO:-0500
TZNAME:CDT
DTSTART:20210314T080000
END:DAYLIGHT
BEGIN:STANDARD
TZOFFSETFROM:-0500
TZOFFSETTO:-0600
TZNAME:CST
DTSTART:20211107T070000
END:STANDARD
END:VTIMEZONE
BEGIN:VEVENT
DTSTART:20210422T150000Z
DTEND:20210422T160000Z
DTSTAMP:20260423T124808
CREATED:20210420T010013Z
LAST-MODIFIED:20210420T010013Z
UID:19568-1619085600-1619089200@hdpusergroup.org
SUMMARY:Kick off Meeting for Effects of Plating Thickness on CTF at IST
DESCRIPTION:Kick off Meeting for Effects of Plating Thickness on CTF at IST 
URL:https://hdpusergroup.org/event/kick-off-meeting-for-effects-of-plating-thickness-on-ctf-at-ist/
CATEGORIES:Staff Calendar
ORGANIZER;CN=HDP:mailto:webmaster@hdpug.org
END:VEVENT
BEGIN:VEVENT
DTSTART:20210422T160000Z
DTEND:20210422T170000Z
DTSTAMP:20260423T124808
CREATED:20210412T200755Z
LAST-MODIFIED:20210412T200755Z
UID:19596-1619089200-1619092800@hdpusergroup.org
SUMMARY:Cu Surface Treatment vs Loss April 22\, 2021 project meeting
DESCRIPTION:Cu Surface Treatment vs Loss April 22\, 2021 project meeting 
URL:https://hdpusergroup.org/event/cu-surface-treatment-vs-loss-april-22-2021-project-meeting/
LOCATION:WebEx
CATEGORIES:Cu Grain Structure
ORGANIZER;CN=HDP:mailto:webmaster@hdpug.org
END:VEVENT
BEGIN:VEVENT
DTSTART:20210422T180000Z
DTEND:20210422T190000Z
DTSTAMP:20260423T124808
CREATED:20210415T202736Z
LAST-MODIFIED:20210415T202736Z
UID:19661-1619096400-1619100000@hdpusergroup.org
SUMMARY:Cu Peel Strength Phase 2 April 22\, 2021 meeting
DESCRIPTION:Cu Peel Strength Phase 2 April 22\, 2021 meeting 
URL:https://hdpusergroup.org/event/cu-peel-strength-phase-2-april-22-2021-meeting/
LOCATION:WebEx
CATEGORIES:Cu Peel Strength 2
ORGANIZER;CN=HDP:mailto:webmaster@hdpug.org
END:VEVENT
END:VCALENDAR