BEGIN:VCALENDAR
VERSION:2.0
PRODID:-//HDP User Group - ECPv6.10.1.1//NONSGML v1.0//EN
CALSCALE:GREGORIAN
METHOD:PUBLISH
X-ORIGINAL-URL:https://hdpusergroup.org
X-WR-CALDESC:Events for HDP User Group
REFRESH-INTERVAL;VALUE=DURATION:PT1H
X-Robots-Tag:noindex
X-PUBLISHED-TTL:PT1H
BEGIN:VTIMEZONE
TZID:America/Chicago
BEGIN:DAYLIGHT
TZOFFSETFROM:-0600
TZOFFSETTO:-0500
TZNAME:CDT
DTSTART:20210314T080000
END:DAYLIGHT
BEGIN:STANDARD
TZOFFSETFROM:-0500
TZOFFSETTO:-0600
TZNAME:CST
DTSTART:20211107T070000
END:STANDARD
END:VTIMEZONE
BEGIN:VEVENT
DTSTART:20210419T150000Z
DTEND:20210419T160000Z
DTSTAMP:20260423T125910
CREATED:20210406T151730Z
LAST-MODIFIED:20210406T151730Z
UID:19548-1618826400-1618830000@hdpusergroup.org
SUMMARY:Backdrill Under BGA telecom
DESCRIPTION:Backdrill Under BGA telecom 
URL:https://hdpusergroup.org/event/backdrill-under-bga-telecom-18/
CATEGORIES:Backdrill Under BGA
ORGANIZER;CN=HDP:mailto:webmaster@hdpug.org
END:VEVENT
BEGIN:VEVENT
DTSTART:20210419T180000Z
DTEND:20210419T190000Z
DTSTAMP:20260423T125910
CREATED:20210414T140734Z
LAST-MODIFIED:20210414T140734Z
UID:19624-1618837200-1618840800@hdpusergroup.org
SUMMARY:Meeting
DESCRIPTION:Meeting 
URL:https://hdpusergroup.org/event/meeting-5/
CATEGORIES:Staff Calendar
ORGANIZER;CN=HDP:mailto:webmaster@hdpug.org
END:VEVENT
BEGIN:VEVENT
DTSTART:20210419T200000Z
DTEND:20210419T210000Z
DTSTAMP:20260423T125910
CREATED:20210405T203422Z
LAST-MODIFIED:20210405T203422Z
UID:19538-1618844400-1618848000@hdpusergroup.org
SUMMARY:Board Thickness II
DESCRIPTION:Several action items 
URL:https://hdpusergroup.org/event/board-thickness-ii-16/
CATEGORIES:Board Thickness Effect on ATC Reliability II
ORGANIZER;CN=HDP:mailto:webmaster@hdpug.org
END:VEVENT
END:VCALENDAR