BEGIN:VCALENDAR
VERSION:2.0
PRODID:-//HDP User Group - ECPv6.10.1.1//NONSGML v1.0//EN
CALSCALE:GREGORIAN
METHOD:PUBLISH
X-ORIGINAL-URL:https://hdpusergroup.org
X-WR-CALDESC:Events for HDP User Group
REFRESH-INTERVAL;VALUE=DURATION:PT1H
X-Robots-Tag:noindex
X-PUBLISHED-TTL:PT1H
BEGIN:VTIMEZONE
TZID:America/Chicago
BEGIN:DAYLIGHT
TZOFFSETFROM:-0600
TZOFFSETTO:-0500
TZNAME:CDT
DTSTART:20210314T080000
END:DAYLIGHT
BEGIN:STANDARD
TZOFFSETFROM:-0500
TZOFFSETTO:-0600
TZNAME:CST
DTSTART:20211107T070000
END:STANDARD
END:VTIMEZONE
BEGIN:VEVENT
DTSTART:20210325T160000Z
DTEND:20210325T170000Z
DTSTAMP:20260423T141805
CREATED:20210321T181538Z
LAST-MODIFIED:20210321T181538Z
UID:19473-1616670000-1616673600@hdpusergroup.org
SUMMARY:Cu Surface Treatment vs Loss project meeting of March 25\, 2021
DESCRIPTION:Cu Surface Treatment vs Loss project meeting of March 25\, 2021 
URL:https://hdpusergroup.org/event/cu-surface-treatment-vs-loss-project-meeting-of-march-25-2021/
LOCATION:WebEx
CATEGORIES:Cu Grain Structure
ORGANIZER;CN=HDP:mailto:webmaster@hdpug.org
END:VEVENT
BEGIN:VEVENT
DTSTART:20210325T180000Z
DTEND:20210325T190000Z
DTSTAMP:20260423T141805
CREATED:20210321T181947Z
LAST-MODIFIED:20210321T181947Z
UID:19474-1616677200-1616680800@hdpusergroup.org
SUMMARY:Cu Peel Strength Phase 2 project meeting of March 25\, 2021
DESCRIPTION:Cu Peel Strength Phase 2 project meeting of March 25\, 2021 
URL:https://hdpusergroup.org/event/cu-peel-strength-phase-2-project-meeting-of-march-25-2021/
LOCATION:WebEx
CATEGORIES:Cu Peel Strength 2
ORGANIZER;CN=HDP:mailto:webmaster@hdpug.org
END:VEVENT
BEGIN:VEVENT
DTSTART:20210325T190000Z
DTEND:20210325T200000Z
DTSTAMP:20260423T141805
CREATED:20210324T201750Z
LAST-MODIFIED:20210324T201750Z
UID:19488-1616680800-1616684400@hdpusergroup.org
SUMMARY:Call with Gary Auto Project
DESCRIPTION:Discuss Auto project marketing 
URL:https://hdpusergroup.org/event/call-with-gary-auto-project/
CATEGORIES:Staff Calendar
ORGANIZER;CN=HDP:mailto:webmaster@hdpug.org
END:VEVENT
END:VCALENDAR