BEGIN:VCALENDAR
VERSION:2.0
PRODID:-//HDP User Group - ECPv6.10.1.1//NONSGML v1.0//EN
CALSCALE:GREGORIAN
METHOD:PUBLISH
X-ORIGINAL-URL:https://hdpusergroup.org
X-WR-CALDESC:Events for HDP User Group
REFRESH-INTERVAL;VALUE=DURATION:PT1H
X-Robots-Tag:noindex
X-PUBLISHED-TTL:PT1H
BEGIN:VTIMEZONE
TZID:America/Chicago
BEGIN:DAYLIGHT
TZOFFSETFROM:-0600
TZOFFSETTO:-0500
TZNAME:CDT
DTSTART:20210314T080000
END:DAYLIGHT
BEGIN:STANDARD
TZOFFSETFROM:-0500
TZOFFSETTO:-0600
TZNAME:CST
DTSTART:20211107T070000
END:STANDARD
END:VTIMEZONE
BEGIN:VEVENT
DTSTART:20210324T120000Z
DTEND:20210324T130000Z
DTSTAMP:20260423T141806
CREATED:20210323T153754Z
LAST-MODIFIED:20210323T153754Z
UID:19481-1616569200-1616572800@hdpusergroup.org
SUMMARY:Gen 3 Discussion
DESCRIPTION:Discuss CAF testing requirements 
URL:https://hdpusergroup.org/event/gen-3-discussion/
CATEGORIES:Staff Calendar
ORGANIZER;CN=HDP:mailto:webmaster@hdpug.org
END:VEVENT
BEGIN:VEVENT
DTSTART:20210324T180000Z
DTEND:20210324T190000Z
DTSTAMP:20260423T141806
CREATED:20210309T183530Z
LAST-MODIFIED:20210309T183530Z
UID:19428-1616590800-1616594400@hdpusergroup.org
SUMMARY:Glass Type Comparison March 24\, 2021 project meeting
DESCRIPTION:  \nGlass Type Comparison March 24\, 2021 project meeting
URL:https://hdpusergroup.org/event/glass-type-comparison-march-24-2021-project-meeting/
LOCATION:WebEx
CATEGORIES:Glass Type Composition
ORGANIZER;CN=HDP:mailto:webmaster@hdpug.org
END:VEVENT
END:VCALENDAR