BEGIN:VCALENDAR
VERSION:2.0
PRODID:-//HDP User Group - ECPv6.10.1.1//NONSGML v1.0//EN
CALSCALE:GREGORIAN
METHOD:PUBLISH
X-ORIGINAL-URL:https://hdpusergroup.org
X-WR-CALDESC:Events for HDP User Group
REFRESH-INTERVAL;VALUE=DURATION:PT1H
X-Robots-Tag:noindex
X-PUBLISHED-TTL:PT1H
BEGIN:VTIMEZONE
TZID:America/Chicago
BEGIN:DAYLIGHT
TZOFFSETFROM:-0600
TZOFFSETTO:-0500
TZNAME:CDT
DTSTART:20210314T080000
END:DAYLIGHT
BEGIN:STANDARD
TZOFFSETFROM:-0500
TZOFFSETTO:-0600
TZNAME:CST
DTSTART:20211107T070000
END:STANDARD
END:VTIMEZONE
BEGIN:VEVENT
DTSTART:20210322T150000Z
DTEND:20210322T160000Z
DTSTAMP:20260423T141508
CREATED:20210316T165414Z
LAST-MODIFIED:20210316T165414Z
UID:19457-1616407200-1616410800@hdpusergroup.org
SUMMARY:Backdrill Under BGA telecom
DESCRIPTION:Backdrill Under BGA telecom 
URL:https://hdpusergroup.org/event/backdrill-under-bga-telecom-16/
CATEGORIES:Backdrill Under BGA
ORGANIZER;CN=HDP:mailto:webmaster@hdpug.org
END:VEVENT
BEGIN:VEVENT
DTSTART:20210322T190000Z
DTEND:20210322T200000Z
DTSTAMP:20260423T141508
CREATED:20210314T205519Z
LAST-MODIFIED:20210314T205519Z
UID:19319-1616421600-1616425200@hdpusergroup.org
SUMMARY:Board  Thickness II
DESCRIPTION:Dr Lu’s progress \nRichard finding old data \nOmar’s initial modelling work 
URL:https://hdpusergroup.org/event/board-thickness-ii-14/
CATEGORIES:Board Thickness Effect on ATC Reliability II
ORGANIZER;CN=HDP:mailto:webmaster@hdpug.org
END:VEVENT
BEGIN:VEVENT
DTSTART:20210322T200000Z
DTEND:20210322T210000Z
DTSTAMP:20260423T141508
CREATED:20210315T211523Z
LAST-MODIFIED:20210315T211523Z
UID:19452-1616425200-1616428800@hdpusergroup.org
SUMMARY:meeting
DESCRIPTION:Meeting 
URL:https://hdpusergroup.org/event/meeting-2/
CATEGORIES:Staff Calendar
ORGANIZER;CN=HDP:mailto:webmaster@hdpug.org
END:VEVENT
END:VCALENDAR