BEGIN:VCALENDAR
VERSION:2.0
PRODID:-//HDP User Group - ECPv6.10.1.1//NONSGML v1.0//EN
CALSCALE:GREGORIAN
METHOD:PUBLISH
X-ORIGINAL-URL:https://hdpusergroup.org
X-WR-CALDESC:Events for HDP User Group
REFRESH-INTERVAL;VALUE=DURATION:PT1H
X-Robots-Tag:noindex
X-PUBLISHED-TTL:PT1H
BEGIN:VTIMEZONE
TZID:America/Chicago
BEGIN:DAYLIGHT
TZOFFSETFROM:-0600
TZOFFSETTO:-0500
TZNAME:CDT
DTSTART:20210314T080000
END:DAYLIGHT
BEGIN:STANDARD
TZOFFSETFROM:-0500
TZOFFSETTO:-0600
TZNAME:CST
DTSTART:20211107T070000
END:STANDARD
END:VTIMEZONE
BEGIN:VEVENT
DTSTART:20210316T170000Z
DTEND:20210316T180000Z
DTSTAMP:20260423T141634
CREATED:20210216T182854Z
LAST-MODIFIED:20210312T180133Z
UID:19278-1615896000-1615899600@hdpusergroup.org
SUMMARY:Harsh Use Alloy 2 Call
DESCRIPTION:Harsh Use Alloy 2 Project Meeting
URL:https://hdpusergroup.org/event/harsh-use-allow-2-call/
ORGANIZER;CN=HDP:mailto:webmaster@hdpug.org
END:VEVENT
BEGIN:VEVENT
DTSTART:20210316T180000Z
DTEND:20210316T190000Z
DTSTAMP:20260423T141634
CREATED:20210312T172039Z
LAST-MODIFIED:20210312T172039Z
UID:19432-1615899600-1615903200@hdpusergroup.org
SUMMARY:New Tg Thermal Analysis Project Discussion March 16\, 2021 (Change in time)
DESCRIPTION:Discussion on forming a new project on Tg Thermal Analysis at new time 1 PM CST 
URL:https://hdpusergroup.org/event/new-tg-thermal-analysis-project-discussion-march-16-2021/
LOCATION:WebEx
CATEGORIES:Staff Calendar
ORGANIZER;CN=HDP:mailto:webmaster@hdpug.org
END:VEVENT
BEGIN:VEVENT
DTSTART:20210316T190000Z
DTEND:20210316T200000Z
DTSTAMP:20260423T141634
CREATED:20210312T120340Z
LAST-MODIFIED:20210312T120340Z
UID:19390-1615903200-1615906800@hdpusergroup.org
SUMMARY:PCB Feature Min
DESCRIPTION:Progress of embership or NDAs for PCB houese \nDesign proposal 
URL:https://hdpusergroup.org/event/pcb-feature-min-3/
CATEGORIES:PCB Feature Miniaturization
ORGANIZER;CN=HDP:mailto:webmaster@hdpug.org
END:VEVENT
END:VCALENDAR