BEGIN:VCALENDAR
VERSION:2.0
PRODID:-//HDP User Group - ECPv6.10.1.1//NONSGML v1.0//EN
CALSCALE:GREGORIAN
METHOD:PUBLISH
X-ORIGINAL-URL:https://hdpusergroup.org
X-WR-CALDESC:Events for HDP User Group
REFRESH-INTERVAL;VALUE=DURATION:PT1H
X-Robots-Tag:noindex
X-PUBLISHED-TTL:PT1H
BEGIN:VTIMEZONE
TZID:America/Chicago
BEGIN:DAYLIGHT
TZOFFSETFROM:-0600
TZOFFSETTO:-0500
TZNAME:CDT
DTSTART:20210314T080000
END:DAYLIGHT
BEGIN:STANDARD
TZOFFSETFROM:-0500
TZOFFSETTO:-0600
TZNAME:CST
DTSTART:20211107T070000
END:STANDARD
END:VTIMEZONE
BEGIN:VEVENT
DTSTART:20210218T160000Z
DTEND:20210218T170000Z
DTSTAMP:20260423T155231
CREATED:20210128T164113Z
LAST-MODIFIED:20210128T164113Z
UID:19171-1613642400-1613646000@hdpusergroup.org
SUMMARY:Innerlayer Copper Balancing telecom
DESCRIPTION:Inner Layer Copper Balancing Telecom 
URL:https://hdpusergroup.org/event/innerlayer-copper-balancing-telecom-3/
CATEGORIES:Local Copper Density
ORGANIZER;CN=HDP:mailto:webmaster@hdpug.org
END:VEVENT
BEGIN:VEVENT
DTSTART:20210218T170000Z
DTEND:20210218T180000Z
DTSTAMP:20260423T155231
CREATED:20210204T170131Z
LAST-MODIFIED:20210204T170131Z
UID:19204-1613646000-1613649600@hdpusergroup.org
SUMMARY:ECM2 Project call
DESCRIPTION:Meeting 
URL:https://hdpusergroup.org/event/ecm2-project-call-22/
CATEGORIES:Electro-Chemical Migration 2
ORGANIZER;CN=HDP:mailto:webmaster@hdpug.org
END:VEVENT
BEGIN:VEVENT
DTSTART:20210218T193000Z
DTEND:20210218T203000Z
DTSTAMP:20260423T155231
CREATED:20210128T203830Z
LAST-MODIFIED:20210128T203830Z
UID:19173-1613655000-1613658600@hdpusergroup.org
SUMMARY:Board Thickness II
DESCRIPTION:Progress on: \nQFN samples to Dr Lu \nQFN materials properties \nQFN dimensions \nModelling of different board thicknesses and initial part work \n  
URL:https://hdpusergroup.org/event/board-thickness-ii-13/
CATEGORIES:Board Thickness Effect on ATC Reliability II
ORGANIZER;CN=HDP:mailto:webmaster@hdpug.org
END:VEVENT
END:VCALENDAR