BEGIN:VCALENDAR
VERSION:2.0
PRODID:-//HDP User Group - ECPv6.10.1.1//NONSGML v1.0//EN
CALSCALE:GREGORIAN
METHOD:PUBLISH
X-ORIGINAL-URL:https://hdpusergroup.org
X-WR-CALDESC:Events for HDP User Group
REFRESH-INTERVAL;VALUE=DURATION:PT1H
X-Robots-Tag:noindex
X-PUBLISHED-TTL:PT1H
BEGIN:VTIMEZONE
TZID:America/Chicago
BEGIN:DAYLIGHT
TZOFFSETFROM:-0600
TZOFFSETTO:-0500
TZNAME:CDT
DTSTART:20200308T080000
END:DAYLIGHT
BEGIN:STANDARD
TZOFFSETFROM:-0500
TZOFFSETTO:-0600
TZNAME:CST
DTSTART:20201101T070000
END:STANDARD
END:VTIMEZONE
BEGIN:VEVENT
DTSTART:20201210T140000Z
DTEND:20201210T150000Z
DTSTAMP:20260423T190651
CREATED:20201124T073033Z
LAST-MODIFIED:20201124T073033Z
UID:18266-1607587200-1607590800@hdpusergroup.org
SUMMARY:PFH Technology Phase 2
DESCRIPTION:PFH Technology Phase 2 
URL:https://hdpusergroup.org/event/pfh-technology-phase-2/
CATEGORIES:PFH Technology 2
ORGANIZER;CN=HDP:mailto:webmaster@hdpug.org
END:VEVENT
BEGIN:VEVENT
DTSTART:20201210T180000Z
DTEND:20201210T190000Z
DTSTAMP:20260423T190651
CREATED:20201201T183411Z
LAST-MODIFIED:20201201T183411Z
UID:18796-1607601600-1607605200@hdpusergroup.org
SUMMARY:VeCS Project Call reschedule
DESCRIPTION:Discuss FA results 
URL:https://hdpusergroup.org/event/vecs-project-call-reschedule/
CATEGORIES:VeCS Technology Evaluation
ORGANIZER;CN=HDP:mailto:webmaster@hdpug.org
END:VEVENT
BEGIN:VEVENT
DTSTART:20201210T190000Z
DTEND:20201210T200000Z
DTSTAMP:20260423T190651
CREATED:20201203T202655Z
LAST-MODIFIED:20201203T202655Z
UID:18820-1607605200-1607608800@hdpusergroup.org
SUMMARY:Cu Peel
DESCRIPTION:Report finalization? \nPeel 2 continuing 
URL:https://hdpusergroup.org/event/cu-peel-4/
CATEGORIES:Cu Properties
ORGANIZER;CN=HDP:mailto:webmaster@hdpug.org
END:VEVENT
END:VCALENDAR