BEGIN:VCALENDAR
VERSION:2.0
PRODID:-//HDP User Group - ECPv6.10.1.1//NONSGML v1.0//EN
CALSCALE:GREGORIAN
METHOD:PUBLISH
X-ORIGINAL-URL:https://hdpusergroup.org
X-WR-CALDESC:Events for HDP User Group
REFRESH-INTERVAL;VALUE=DURATION:PT1H
X-Robots-Tag:noindex
X-PUBLISHED-TTL:PT1H
BEGIN:VTIMEZONE
TZID:America/Chicago
BEGIN:DAYLIGHT
TZOFFSETFROM:-0600
TZOFFSETTO:-0500
TZNAME:CDT
DTSTART:20200308T080000
END:DAYLIGHT
BEGIN:STANDARD
TZOFFSETFROM:-0500
TZOFFSETTO:-0600
TZNAME:CST
DTSTART:20201101T070000
END:STANDARD
END:VTIMEZONE
BEGIN:VEVENT
DTSTART:20201208T160000Z
DTEND:20201208T170000Z
DTSTAMP:20260423T190533
CREATED:20201117T165623Z
LAST-MODIFIED:20201117T165623Z
UID:18555-1607421600-1607425200@hdpusergroup.org
SUMMARY:Better CAF Eq
DESCRIPTION:Status of project 
URL:https://hdpusergroup.org/event/better-caf-eq-7/
CATEGORIES:Better CAF Acceleration Equation
ORGANIZER;CN=HDP:mailto:webmaster@hdpug.org
END:VEVENT
BEGIN:VEVENT
DTSTART:20201208T160000Z
DTEND:20201208T170000Z
DTSTAMP:20260423T190533
CREATED:20201201T140303Z
LAST-MODIFIED:20201201T140303Z
UID:18781-1607421600-1607425200@hdpusergroup.org
SUMMARY:Backdrill Under BGA telecom
DESCRIPTION:Backdrill Under BGA telecom 
URL:https://hdpusergroup.org/event/backdrill-under-bga-telecom-12/
CATEGORIES:Backdrill Under BGA
ORGANIZER;CN=HDP:mailto:webmaster@hdpug.org
END:VEVENT
BEGIN:VEVENT
DTSTART:20201208T180000Z
DTEND:20201208T190000Z
DTSTAMP:20260423T190533
CREATED:20201201T183651Z
LAST-MODIFIED:20201201T183651Z
UID:18797-1607428800-1607432400@hdpusergroup.org
SUMMARY:Harsh Use Alloy 2 call
DESCRIPTION:Review go to Implementation charts 
URL:https://hdpusergroup.org/event/harsh-use-alloy-2-call/
CATEGORIES:Harsh Use Alloy Evaluation 2
ORGANIZER;CN=HDP:mailto:webmaster@hdpug.org
END:VEVENT
BEGIN:VEVENT
DTSTART:20201208T200000Z
DTEND:20201208T210000Z
DTSTAMP:20260423T190533
CREATED:20201201T200926Z
LAST-MODIFIED:20201201T200926Z
UID:18798-1607436000-1607439600@hdpusergroup.org
SUMMARY:PCB Features
DESCRIPTION:Paul to give update on possible companies ot buid test vehicle. 
URL:https://hdpusergroup.org/event/pcb-features-2/
CATEGORIES:PCB Feature Miniaturization
ORGANIZER;CN=HDP:mailto:webmaster@hdpug.org
END:VEVENT
BEGIN:VEVENT
DTSTART:20201209T010000Z
DTEND:20201209T020000Z
DTSTAMP:20260423T190533
CREATED:20201111T013826Z
LAST-MODIFIED:20201111T013826Z
UID:18529-1607454000-1607457600@hdpusergroup.org
SUMMARY:High Speed Hybrid PWB Project Call
DESCRIPTION:High Speed Hybrid PWB Project Call 
URL:https://hdpusergroup.org/event/high-speed-hybrid-pwb-project-call-26/
CATEGORIES:High Speed Hybrid PWB
ORGANIZER;CN=HDP:mailto:webmaster@hdpug.org
END:VEVENT
END:VCALENDAR