BEGIN:VCALENDAR
VERSION:2.0
PRODID:-//HDP User Group - ECPv6.10.1.1//NONSGML v1.0//EN
CALSCALE:GREGORIAN
METHOD:PUBLISH
X-ORIGINAL-URL:https://hdpusergroup.org
X-WR-CALDESC:Events for HDP User Group
REFRESH-INTERVAL;VALUE=DURATION:PT1H
X-Robots-Tag:noindex
X-PUBLISHED-TTL:PT1H
BEGIN:VTIMEZONE
TZID:America/Chicago
BEGIN:DAYLIGHT
TZOFFSETFROM:-0600
TZOFFSETTO:-0500
TZNAME:CDT
DTSTART:20200308T080000
END:DAYLIGHT
BEGIN:STANDARD
TZOFFSETFROM:-0500
TZOFFSETTO:-0600
TZNAME:CST
DTSTART:20201101T070000
END:STANDARD
END:VTIMEZONE
BEGIN:VEVENT
DTSTART:20201112T140000Z
DTEND:20201112T180000Z
DTSTAMP:20260423T203851
CREATED:20210825T012743Z
LAST-MODIFIED:20210825T012743Z
UID:18186-1605168000-1605182400@hdpusergroup.org
SUMMARY:HDP November 2020 Aerospace Electronics Webinar
DESCRIPTION:  \nHigh-Density Packaging (HDP) User Group is pleased to announce it is hosting a free webinar that will provide its members and others in the electronic industry the latest information on issues facing Aerospace electronics.  Worldwide Experts in the field will share their knowledge and concerns during the 3-hour Webinar\, which is open to all interested parties. \nThe Webinar will be held on November 12\, 2020\, starting at 8 AM USA Central Time.  \nThe Webinar is in the English language.  \nPlease register for webinar log-in and call details by emailing your contact info (name\, Company Info\, Email) to one of the following people\, or using the register now button on this page. \nkima77@hdpug.org  martinc@hdpug.org larrym@hdpug.org
URL:https://hdpusergroup.org/event/hdp-november-2020-aerospace-electronics-webinar/
CATEGORIES:Member Meetings
ORGANIZER;CN=HDP:mailto:webmaster@hdpug.org
END:VEVENT
BEGIN:VEVENT
DTSTART:20201112T200000Z
DTEND:20201112T210000Z
DTSTAMP:20260423T203851
CREATED:20201029T222319Z
LAST-MODIFIED:20201029T222319Z
UID:18473-1605189600-1605193200@hdpusergroup.org
SUMMARY:Photonic Soldering
DESCRIPTION:Samples to Vahid? 
URL:https://hdpusergroup.org/event/photonic-soldering-16/
CATEGORIES:Photonic Soldering
ORGANIZER;CN=HDP:mailto:webmaster@hdpug.org
END:VEVENT
END:VCALENDAR