BEGIN:VCALENDAR
VERSION:2.0
PRODID:-//HDP User Group - ECPv6.10.1.1//NONSGML v1.0//EN
CALSCALE:GREGORIAN
METHOD:PUBLISH
X-ORIGINAL-URL:https://hdpusergroup.org
X-WR-CALDESC:Events for HDP User Group
REFRESH-INTERVAL;VALUE=DURATION:PT1H
X-Robots-Tag:noindex
X-PUBLISHED-TTL:PT1H
BEGIN:VTIMEZONE
TZID:America/Chicago
BEGIN:DAYLIGHT
TZOFFSETFROM:-0600
TZOFFSETTO:-0500
TZNAME:CDT
DTSTART:20200308T080000
END:DAYLIGHT
BEGIN:STANDARD
TZOFFSETFROM:-0500
TZOFFSETTO:-0600
TZNAME:CST
DTSTART:20201101T070000
END:STANDARD
END:VTIMEZONE
BEGIN:VEVENT
DTSTART:20201028T140000Z
DTEND:20201028T150000Z
DTSTAMP:20260423T234031
CREATED:20201021T132519Z
LAST-MODIFIED:20201021T132519Z
UID:18428-1603875600-1603879200@hdpusergroup.org
SUMMARY:DISC2A
DESCRIPTION:Talk about Maartem's samples and BoD presentation. 
URL:https://hdpusergroup.org/event/disc2a-14/
CATEGORIES:Digital Speckle Correlation (DSC) 2
ORGANIZER;CN=HDP:mailto:webmaster@hdpug.org
END:VEVENT
BEGIN:VEVENT
DTSTART:20201028T150000Z
DTEND:20201028T160000Z
DTSTAMP:20260423T234031
CREATED:20200930T153502Z
LAST-MODIFIED:20200930T153502Z
UID:18292-1603879200-1603882800@hdpusergroup.org
SUMMARY:Materials #6 Call
DESCRIPTION:Meeting \n  
URL:https://hdpusergroup.org/event/materials-6-call-11/
CATEGORIES:Lead Free PWB Materials Reliability Phase 6
ORGANIZER;CN=HDP:mailto:webmaster@hdpug.org
END:VEVENT
BEGIN:VEVENT
DTSTART:20201028T180000Z
DTEND:20201028T190000Z
DTSTAMP:20260423T234031
CREATED:20201014T124134Z
LAST-MODIFIED:20201014T124134Z
UID:18351-1603890000-1603893600@hdpusergroup.org
SUMMARY:Glass Type Comparison Project telecom
DESCRIPTION:Glass Type Comparison Project telecom 
URL:https://hdpusergroup.org/event/glass-type-comparison-project-telecom/
CATEGORIES:Glass Type Composition
ORGANIZER;CN=HDP:mailto:webmaster@hdpug.org
END:VEVENT
BEGIN:VEVENT
DTSTART:20201028T190000Z
DTEND:20201028T200000Z
DTSTAMP:20260423T234031
CREATED:20201014T194417Z
LAST-MODIFIED:20201014T194417Z
UID:18370-1603893600-1603897200@hdpusergroup.org
SUMMARY:PCB Features
DESCRIPTION:Updat on action items.  Really need a coulpe of PCB fabricators to commit. 
URL:https://hdpusergroup.org/event/pcb-features/
CATEGORIES:PCB Feature Miniaturization
ORGANIZER;CN=HDP:mailto:webmaster@hdpug.org
END:VEVENT
END:VCALENDAR