BEGIN:VCALENDAR
VERSION:2.0
PRODID:-//HDP User Group - ECPv6.10.1.1//NONSGML v1.0//EN
CALSCALE:GREGORIAN
METHOD:PUBLISH
X-ORIGINAL-URL:https://hdpusergroup.org
X-WR-CALDESC:Events for HDP User Group
REFRESH-INTERVAL;VALUE=DURATION:PT1H
X-Robots-Tag:noindex
X-PUBLISHED-TTL:PT1H
BEGIN:VTIMEZONE
TZID:America/Chicago
BEGIN:DAYLIGHT
TZOFFSETFROM:-0600
TZOFFSETTO:-0500
TZNAME:CDT
DTSTART:20200308T080000
END:DAYLIGHT
BEGIN:STANDARD
TZOFFSETFROM:-0500
TZOFFSETTO:-0600
TZNAME:CST
DTSTART:20201101T070000
END:STANDARD
END:VTIMEZONE
BEGIN:VEVENT
DTSTART:20201014T140000Z
DTEND:20201014T150000Z
DTSTAMP:20260423T220941
CREATED:20200929T070019Z
LAST-MODIFIED:20200929T070019Z
UID:18283-1602666000-1602669600@hdpusergroup.org
SUMMARY:Component Rework Reliability Project Call
DESCRIPTION:Component Rework Reliability Project Call 
URL:https://hdpusergroup.org/event/component-rework-reliability-project-call-14/
CATEGORIES:Component Rework Reliability
ORGANIZER;CN=HDP:mailto:webmaster@hdpug.org
END:VEVENT
BEGIN:VEVENT
DTSTART:20201014T150000Z
DTEND:20201014T160000Z
DTSTAMP:20260423T220941
CREATED:20200923T154420Z
LAST-MODIFIED:20200923T154420Z
UID:18267-1602669600-1602673200@hdpusergroup.org
SUMMARY:Automotive PWB Meeting
DESCRIPTION:Meeting \n  
URL:https://hdpusergroup.org/event/automotive-pwb-meeting-4/
CATEGORIES:Automotive PCB – Hi Voltage/Hi Current
ORGANIZER;CN=HDP:mailto:webmaster@hdpug.org
END:VEVENT
BEGIN:VEVENT
DTSTART:20201014T160000Z
DTEND:20201014T170000Z
DTSTAMP:20260423T220941
CREATED:20200924T130226Z
LAST-MODIFIED:20200924T130226Z
UID:18271-1602673200-1602676800@hdpusergroup.org
SUMMARY:Harsh Use Alloy 2 Project call
DESCRIPTION:Call to discuss resource plan 
URL:https://hdpusergroup.org/event/harsh-use-alloy-2-project-call/
CATEGORIES:Harsh Use Environment Alloy Evaluation
ORGANIZER;CN=HDP:mailto:webmaster@hdpug.org
END:VEVENT
BEGIN:VEVENT
DTSTART:20201014T190000Z
DTEND:20201014T200000Z
DTSTAMP:20260423T220941
CREATED:20200929T194601Z
LAST-MODIFIED:20200929T194601Z
UID:18290-1602684000-1602687600@hdpusergroup.org
SUMMARY:Miniaturization Process
DESCRIPTION:To see where we are in getting materials\, fabricators\, etc. 
URL:https://hdpusergroup.org/event/miniaturization-process/
CATEGORIES:PCB Feature Miniaturization
ORGANIZER;CN=HDP:mailto:webmaster@hdpug.org
END:VEVENT
END:VCALENDAR