BEGIN:VCALENDAR
VERSION:2.0
PRODID:-//HDP User Group - ECPv6.10.1.1//NONSGML v1.0//EN
CALSCALE:GREGORIAN
METHOD:PUBLISH
X-ORIGINAL-URL:https://hdpusergroup.org
X-WR-CALDESC:Events for HDP User Group
REFRESH-INTERVAL;VALUE=DURATION:PT1H
X-Robots-Tag:noindex
X-PUBLISHED-TTL:PT1H
BEGIN:VTIMEZONE
TZID:America/Chicago
BEGIN:DAYLIGHT
TZOFFSETFROM:-0600
TZOFFSETTO:-0500
TZNAME:CDT
DTSTART:20200308T080000
END:DAYLIGHT
BEGIN:STANDARD
TZOFFSETFROM:-0500
TZOFFSETTO:-0600
TZNAME:CST
DTSTART:20201101T070000
END:STANDARD
END:VTIMEZONE
BEGIN:VEVENT
DTSTART:20200924T070000Z
DTEND:20200924T080000Z
DTSTAMP:20260423T234331
CREATED:20200910T075321Z
LAST-MODIFIED:20200910T075321Z
UID:18194-1600912800-1600916400@hdpusergroup.org
SUMMARY:Component Rework Reliability Project Call
DESCRIPTION:Component Rework Reliability Project Call 
URL:https://hdpusergroup.org/event/component-rework-reliability-project-call-13/
CATEGORIES:Component Rework Reliability
ORGANIZER;CN=HDP:mailto:webmaster@hdpug.org
END:VEVENT
BEGIN:VEVENT
DTSTART:20200924T150000Z
DTEND:20200924T160000Z
DTSTAMP:20260423T234331
CREATED:20200813T153632Z
LAST-MODIFIED:20200813T153632Z
UID:17788-1600941600-1600945200@hdpusergroup.org
SUMMARY:ECM2 Project call Placeholder
DESCRIPTION:Placeholder 
URL:https://hdpusergroup.org/event/ecm2-project-call-placeholder-2/
CATEGORIES:Electro-Chemical Migration 2
ORGANIZER;CN=HDP:mailto:webmaster@hdpug.org
END:VEVENT
BEGIN:VEVENT
DTSTART:20200924T150000Z
DTEND:20200924T160000Z
DTSTAMP:20260423T234331
CREATED:20200910T155851Z
LAST-MODIFIED:20200910T155851Z
UID:18195-1600941600-1600945200@hdpusergroup.org
SUMMARY:ECM2 Project call
DESCRIPTION:Meeting \n  
URL:https://hdpusergroup.org/event/ecm2-project-call-16/
CATEGORIES:Electro-Chemical Migration 2
ORGANIZER;CN=HDP:mailto:webmaster@hdpug.org
END:VEVENT
BEGIN:VEVENT
DTSTART:20200924T200000Z
DTEND:20200924T210000Z
DTSTAMP:20260423T234331
CREATED:20200917T202731Z
LAST-MODIFIED:20200917T202731Z
UID:18255-1600959600-1600963200@hdpusergroup.org
SUMMARY:Photonic Soldering
DESCRIPTION:Do we have boards? \nDo we have a test site at Celestica? 
URL:https://hdpusergroup.org/event/photonic-soldering-13/
CATEGORIES:Photonic Soldering
ORGANIZER;CN=HDP:mailto:webmaster@hdpug.org
END:VEVENT
END:VCALENDAR