BEGIN:VCALENDAR
VERSION:2.0
PRODID:-//HDP User Group - ECPv6.10.1.1//NONSGML v1.0//EN
CALSCALE:GREGORIAN
METHOD:PUBLISH
X-ORIGINAL-URL:https://hdpusergroup.org
X-WR-CALDESC:Events for HDP User Group
REFRESH-INTERVAL;VALUE=DURATION:PT1H
X-Robots-Tag:noindex
X-PUBLISHED-TTL:PT1H
BEGIN:VTIMEZONE
TZID:America/Chicago
BEGIN:DAYLIGHT
TZOFFSETFROM:-0600
TZOFFSETTO:-0500
TZNAME:CDT
DTSTART:20200308T080000
END:DAYLIGHT
BEGIN:STANDARD
TZOFFSETFROM:-0500
TZOFFSETTO:-0600
TZNAME:CST
DTSTART:20201101T070000
END:STANDARD
END:VTIMEZONE
BEGIN:VEVENT
DTSTART:20200923T140000Z
DTEND:20200923T150000Z
DTSTAMP:20260424T005218
CREATED:20200918T051911Z
LAST-MODIFIED:20200918T051911Z
UID:17783-1600851600-1600855200@hdpusergroup.org
SUMMARY:PFH Technology Phase 2 Project Call
DESCRIPTION:PFH Technology Phase 2 Project Call 
URL:https://hdpusergroup.org/event/pfh-technology-phase-2-project-call-3/
CATEGORIES:PFH Technology 2
ORGANIZER;CN=HDP:mailto:webmaster@hdpug.org
END:VEVENT
BEGIN:VEVENT
DTSTART:20200923T150000Z
DTEND:20200923T160000Z
DTSTAMP:20260424T005218
CREATED:20200909T151818Z
LAST-MODIFIED:20200909T151818Z
UID:17779-1600855200-1600858800@hdpusergroup.org
SUMMARY:Automotive PWB
DESCRIPTION:Meeting \n  
URL:https://hdpusergroup.org/event/automotive-pwb-place-holder/
CATEGORIES:Automotive PCB – Hi Voltage/Hi Current
ORGANIZER;CN=HDP:mailto:webmaster@hdpug.org
END:VEVENT
BEGIN:VEVENT
DTSTART:20200924T010000Z
DTEND:20200924T020000Z
DTSTAMP:20260424T005218
CREATED:20200828T155953Z
LAST-MODIFIED:20200828T155953Z
UID:17824-1600891200-1600894800@hdpusergroup.org
SUMMARY:Project call - Reliability of wettable flank QFN for automotive
DESCRIPTION:Update on chamber and testing 
URL:https://hdpusergroup.org/event/project-call-reliability-of-wettable-flank-qfn-for-automotive/
CATEGORIES:Reliability of Wettable Flank in Routable QFN for Automotive
ORGANIZER;CN=HDP:mailto:webmaster@hdpug.org
END:VEVENT
END:VCALENDAR