BEGIN:VCALENDAR
VERSION:2.0
PRODID:-//HDP User Group - ECPv6.10.1.1//NONSGML v1.0//EN
CALSCALE:GREGORIAN
METHOD:PUBLISH
X-ORIGINAL-URL:https://hdpusergroup.org
X-WR-CALDESC:Events for HDP User Group
REFRESH-INTERVAL;VALUE=DURATION:PT1H
X-Robots-Tag:noindex
X-PUBLISHED-TTL:PT1H
BEGIN:VTIMEZONE
TZID:America/Chicago
BEGIN:DAYLIGHT
TZOFFSETFROM:-0600
TZOFFSETTO:-0500
TZNAME:CDT
DTSTART:20200308T080000
END:DAYLIGHT
BEGIN:STANDARD
TZOFFSETFROM:-0500
TZOFFSETTO:-0600
TZNAME:CST
DTSTART:20201101T070000
END:STANDARD
END:VTIMEZONE
BEGIN:VEVENT
DTSTART:20200916T140000Z
DTEND:20200916T150000Z
DTSTAMP:20260424T035353
CREATED:20200915T153952Z
LAST-MODIFIED:20200915T153952Z
UID:18204-1600246800-1600250400@hdpusergroup.org
SUMMARY:Logo Call
DESCRIPTION:Martin\, Smitty\, Kim Logo Call 
URL:https://hdpusergroup.org/event/logo-call-14/
CATEGORIES:Staff Calendar
ORGANIZER;CN=HDP:mailto:webmaster@hdpug.org
END:VEVENT
BEGIN:VEVENT
DTSTART:20200916T180000Z
DTEND:20200916T190000Z
DTSTAMP:20260424T035353
CREATED:20200810T024207Z
LAST-MODIFIED:20200810T024207Z
UID:17772-1600261200-1600264800@hdpusergroup.org
SUMMARY:Glass Type Comparison telecom
DESCRIPTION:Glass Type Comparison telecom 
URL:https://hdpusergroup.org/event/glass-type-comparison-telecom/
CATEGORIES:Glass Type Composition
ORGANIZER;CN=HDP:mailto:webmaster@hdpug.org
END:VEVENT
END:VCALENDAR