BEGIN:VCALENDAR
VERSION:2.0
PRODID:-//HDP User Group - ECPv6.10.1.1//NONSGML v1.0//EN
CALSCALE:GREGORIAN
METHOD:PUBLISH
X-ORIGINAL-URL:https://hdpusergroup.org
X-WR-CALDESC:Events for HDP User Group
REFRESH-INTERVAL;VALUE=DURATION:PT1H
X-Robots-Tag:noindex
X-PUBLISHED-TTL:PT1H
BEGIN:VTIMEZONE
TZID:America/Chicago
BEGIN:DAYLIGHT
TZOFFSETFROM:-0600
TZOFFSETTO:-0500
TZNAME:CDT
DTSTART:20200308T080000
END:DAYLIGHT
BEGIN:STANDARD
TZOFFSETFROM:-0500
TZOFFSETTO:-0600
TZNAME:CST
DTSTART:20201101T070000
END:STANDARD
END:VTIMEZONE
BEGIN:VEVENT
DTSTART:20200820T140000Z
DTEND:20200820T150000Z
DTSTAMP:20260424T021621
CREATED:20200813T154855Z
LAST-MODIFIED:20200813T154855Z
UID:17791-1597914000-1597917600@hdpusergroup.org
SUMMARY:DISC2A
DESCRIPTION:Talk about samples\, better detailed description of our three area of investigation. Try and complete presentation for the BoD. 
URL:https://hdpusergroup.org/event/disc2a-10/
CATEGORIES:Digital Speckle Correlation (DSC) 2
ORGANIZER;CN=HDP:mailto:webmaster@hdpug.org
END:VEVENT
BEGIN:VEVENT
DTSTART:20200820T150000Z
DTEND:20200820T160000Z
DTSTAMP:20260424T021621
CREATED:20200730T164245Z
LAST-MODIFIED:20200730T164245Z
UID:17729-1597917600-1597921200@hdpusergroup.org
SUMMARY:ECM2 Project call
DESCRIPTION:Meeting \n  
URL:https://hdpusergroup.org/event/ecm2-project-call-14/
CATEGORIES:Electro-Chemical Migration 2
ORGANIZER;CN=HDP:mailto:webmaster@hdpug.org
END:VEVENT
BEGIN:VEVENT
DTSTART:20200820T170000Z
DTEND:20200820T180000Z
DTSTAMP:20260424T021621
CREATED:20200807T141519Z
LAST-MODIFIED:20200807T141519Z
UID:17768-1597924800-1597928400@hdpusergroup.org
SUMMARY:VeCS Technology Evaluation Project Call
DESCRIPTION:Review TV data 
URL:https://hdpusergroup.org/event/vecs-technology-evaluation-project-call/
CATEGORIES:VeCS Technology Evaluation
ORGANIZER;CN=HDP:mailto:webmaster@hdpug.org
END:VEVENT
END:VCALENDAR