BEGIN:VCALENDAR
VERSION:2.0
PRODID:-//HDP User Group - ECPv6.10.1.1//NONSGML v1.0//EN
CALSCALE:GREGORIAN
METHOD:PUBLISH
X-ORIGINAL-URL:https://hdpusergroup.org
X-WR-CALDESC:Events for HDP User Group
REFRESH-INTERVAL;VALUE=DURATION:PT1H
X-Robots-Tag:noindex
X-PUBLISHED-TTL:PT1H
BEGIN:VTIMEZONE
TZID:America/Chicago
BEGIN:DAYLIGHT
TZOFFSETFROM:-0600
TZOFFSETTO:-0500
TZNAME:CDT
DTSTART:20200308T080000
END:DAYLIGHT
BEGIN:STANDARD
TZOFFSETFROM:-0500
TZOFFSETTO:-0600
TZNAME:CST
DTSTART:20201101T070000
END:STANDARD
END:VTIMEZONE
BEGIN:VEVENT
DTSTART:20200817T140000Z
DTEND:20200817T150000Z
DTSTAMP:20260424T035019
CREATED:20200813T152803Z
LAST-MODIFIED:20200813T152803Z
UID:17786-1597654800-1597658400@hdpusergroup.org
SUMMARY:Logo Usage Call
DESCRIPTION:Smitty\, Martin\, Kim logo usage call 
URL:https://hdpusergroup.org/event/logo-usage-call/
CATEGORIES:Staff Calendar
ORGANIZER;CN=HDP:mailto:webmaster@hdpug.org
END:VEVENT
BEGIN:VEVENT
DTSTART:20200817T150000Z
DTEND:20200817T160000Z
DTSTAMP:20260424T035019
CREATED:20200727T175512Z
LAST-MODIFIED:20200727T175512Z
UID:17721-1597658400-1597662000@hdpusergroup.org
SUMMARY:Reliability and Power Cycles telecom
DESCRIPTION:Reliability and Power Cycles telecom 
URL:https://hdpusergroup.org/event/reliability-and-power-cycles-telecom-4/
CATEGORIES:Reliability and Power Cycles
ORGANIZER;CN=HDP:mailto:webmaster@hdpug.org
END:VEVENT
BEGIN:VEVENT
DTSTART:20200817T170000Z
DTEND:20200817T190000Z
DTSTAMP:20260424T035019
CREATED:20200811T181408Z
LAST-MODIFIED:20200811T181408Z
UID:17775-1597665600-1597672800@hdpusergroup.org
SUMMARY:Board Conference Call
DESCRIPTION:Special Conference Call 
URL:https://hdpusergroup.org/event/board-conference-call/
CATEGORIES:Board Calendar
ORGANIZER;CN=HDP:mailto:webmaster@hdpug.org
END:VEVENT
END:VCALENDAR