BEGIN:VCALENDAR
VERSION:2.0
PRODID:-//HDP User Group - ECPv6.10.1.1//NONSGML v1.0//EN
CALSCALE:GREGORIAN
METHOD:PUBLISH
X-ORIGINAL-URL:https://hdpusergroup.org
X-WR-CALDESC:Events for HDP User Group
REFRESH-INTERVAL;VALUE=DURATION:PT1H
X-Robots-Tag:noindex
X-PUBLISHED-TTL:PT1H
BEGIN:VTIMEZONE
TZID:America/Chicago
BEGIN:DAYLIGHT
TZOFFSETFROM:-0600
TZOFFSETTO:-0500
TZNAME:CDT
DTSTART:20200308T080000
END:DAYLIGHT
BEGIN:STANDARD
TZOFFSETFROM:-0500
TZOFFSETTO:-0600
TZNAME:CST
DTSTART:20201101T070000
END:STANDARD
END:VTIMEZONE
BEGIN:VEVENT
DTSTART:20200813T140000Z
DTEND:20200813T150000Z
DTSTAMP:20260424T035124
CREATED:20200813T133447Z
LAST-MODIFIED:20200813T133447Z
UID:17586-1597309200-1597312800@hdpusergroup.org
SUMMARY:PFH Technology Phase 2 Project Call
DESCRIPTION:PFH Technology Phase 2 Project Call 
URL:https://hdpusergroup.org/event/pfh-technology-phase-2-project-call-2/
CATEGORIES:PFH Technology 2
ORGANIZER;CN=HDP:mailto:webmaster@hdpug.org
END:VEVENT
BEGIN:VEVENT
DTSTART:20200813T150000Z
DTEND:20200813T160000Z
DTSTAMP:20260424T035124
CREATED:20200729T152129Z
LAST-MODIFIED:20200729T152129Z
UID:17725-1597312800-1597316400@hdpusergroup.org
SUMMARY:DISC2A
DESCRIPTION:See if anyone has sent Hua samples. 
URL:https://hdpusergroup.org/event/disc2a-9/
CATEGORIES:Digital Speckle Correlation (DSC) 2
ORGANIZER;CN=HDP:mailto:webmaster@hdpug.org
END:VEVENT
BEGIN:VEVENT
DTSTART:20200813T200000Z
DTEND:20200813T210000Z
DTSTAMP:20260424T035124
CREATED:20200723T205829Z
LAST-MODIFIED:20200723T205829Z
UID:17712-1597330800-1597334400@hdpusergroup.org
SUMMARY:Photonic Soldering
DESCRIPTION:Continue to flesh out our "how to" document  
URL:https://hdpusergroup.org/event/photonic-soldering-10/
CATEGORIES:Photonic Soldering
ORGANIZER;CN=HDP:mailto:webmaster@hdpug.org
END:VEVENT
END:VCALENDAR