BEGIN:VCALENDAR
VERSION:2.0
PRODID:-//HDP User Group - ECPv6.10.1.1//NONSGML v1.0//EN
CALSCALE:GREGORIAN
METHOD:PUBLISH
X-ORIGINAL-URL:https://hdpusergroup.org
X-WR-CALDESC:Events for HDP User Group
REFRESH-INTERVAL;VALUE=DURATION:PT1H
X-Robots-Tag:noindex
X-PUBLISHED-TTL:PT1H
BEGIN:VTIMEZONE
TZID:America/Chicago
BEGIN:DAYLIGHT
TZOFFSETFROM:-0600
TZOFFSETTO:-0500
TZNAME:CDT
DTSTART:20200308T080000
END:DAYLIGHT
BEGIN:STANDARD
TZOFFSETFROM:-0500
TZOFFSETTO:-0600
TZNAME:CST
DTSTART:20201101T070000
END:STANDARD
END:VTIMEZONE
BEGIN:VEVENT
DTSTART:20200811T170000Z
DTEND:20200811T180000Z
DTSTAMP:20260424T021546
CREATED:20200728T175443Z
LAST-MODIFIED:20200728T175443Z
UID:17723-1597147200-1597150800@hdpusergroup.org
SUMMARY:Semi-add
DESCRIPTION:Contine fleshing out the project scope 
URL:https://hdpusergroup.org/event/semi-add-3/
CATEGORIES:PCB Feature Miniaturization
ORGANIZER;CN=HDP:mailto:webmaster@hdpug.org
END:VEVENT
BEGIN:VEVENT
DTSTART:20200811T213000Z
DTEND:20200811T220000Z
DTSTAMP:20260424T021546
CREATED:20200811T131829Z
LAST-MODIFIED:20200811T131829Z
UID:17773-1597163400-1597165200@hdpusergroup.org
SUMMARY:Test
DESCRIPTION:Testing call notice system 
URL:https://hdpusergroup.org/event/test-5/
CATEGORIES:Staff Calendar
ORGANIZER;CN=HDP:mailto:webmaster@hdpug.org
END:VEVENT
END:VCALENDAR