BEGIN:VCALENDAR
VERSION:2.0
PRODID:-//HDP User Group - ECPv6.10.1.1//NONSGML v1.0//EN
CALSCALE:GREGORIAN
METHOD:PUBLISH
X-ORIGINAL-URL:https://hdpusergroup.org
X-WR-CALDESC:Events for HDP User Group
REFRESH-INTERVAL;VALUE=DURATION:PT1H
X-Robots-Tag:noindex
X-PUBLISHED-TTL:PT1H
BEGIN:VTIMEZONE
TZID:America/Chicago
BEGIN:DAYLIGHT
TZOFFSETFROM:-0600
TZOFFSETTO:-0500
TZNAME:CDT
DTSTART:20200308T080000
END:DAYLIGHT
BEGIN:STANDARD
TZOFFSETFROM:-0500
TZOFFSETTO:-0600
TZNAME:CST
DTSTART:20201101T070000
END:STANDARD
END:VTIMEZONE
BEGIN:VEVENT
DTSTART:20200626T170000Z
DTEND:20200626T180000Z
DTSTAMP:20260424T082559
CREATED:20200608T202502Z
LAST-MODIFIED:20200608T202502Z
UID:17500-1593172800-1593176400@hdpusergroup.org
SUMMARY:Ultra Low Dk Glass Analysis
DESCRIPTION:Ultra Low Dk Glass Analysis 
URL:https://hdpusergroup.org/event/ultra-low-dk-glass-analysis-7/
CATEGORIES:Glass Weave
ORGANIZER;CN=HDP:mailto:webmaster@hdpug.org
END:VEVENT
BEGIN:VEVENT
DTSTART:20200626T170000Z
DTEND:20200626T180000Z
DTSTAMP:20260424T082559
CREATED:20200622T154844Z
LAST-MODIFIED:20200622T154844Z
UID:17589-1593172800-1593176400@hdpusergroup.org
SUMMARY:Ultra Low Dk Glass telecom
DESCRIPTION:Ultra Low Dk Glass 
URL:https://hdpusergroup.org/event/ultra-low-dk-glass-telecom-4/
CATEGORIES:Glass Weave
ORGANIZER;CN=HDP:mailto:webmaster@hdpug.org
END:VEVENT
END:VCALENDAR