BEGIN:VCALENDAR
VERSION:2.0
PRODID:-//HDP User Group - ECPv6.10.1.1//NONSGML v1.0//EN
CALSCALE:GREGORIAN
METHOD:PUBLISH
X-ORIGINAL-URL:https://hdpusergroup.org
X-WR-CALDESC:Events for HDP User Group
REFRESH-INTERVAL;VALUE=DURATION:PT1H
X-Robots-Tag:noindex
X-PUBLISHED-TTL:PT1H
BEGIN:VTIMEZONE
TZID:America/Chicago
BEGIN:DAYLIGHT
TZOFFSETFROM:-0600
TZOFFSETTO:-0500
TZNAME:CDT
DTSTART:20200308T080000
END:DAYLIGHT
BEGIN:STANDARD
TZOFFSETFROM:-0500
TZOFFSETTO:-0600
TZNAME:CST
DTSTART:20201101T070000
END:STANDARD
END:VTIMEZONE
BEGIN:VEVENT
DTSTART:20200624T150000Z
DTEND:20200624T160000Z
DTSTAMP:20260424T052611
CREATED:20200604T160436Z
LAST-MODIFIED:20200604T160436Z
UID:17494-1592992800-1592996400@hdpusergroup.org
SUMMARY:Materials #6 Call
DESCRIPTION:Meeting \n  
URL:https://hdpusergroup.org/event/materials-6-call-5/
CATEGORIES:Lead Free PWB Materials Reliability Phase 6
ORGANIZER;CN=HDP:mailto:webmaster@hdpug.org
END:VEVENT
BEGIN:VEVENT
DTSTART:20200624T160000Z
DTEND:20200624T170000Z
DTSTAMP:20260424T052611
CREATED:20200618T194953Z
LAST-MODIFIED:20200618T194953Z
UID:17581-1592996400-1593000000@hdpusergroup.org
SUMMARY:Cu Surface Treatment June 24\, 2020 project meeting
DESCRIPTION:Cu Surface Treatment June 24\, 2020 project meeting 
URL:https://hdpusergroup.org/event/cu-surface-treatment-june-24-2020-project-meeting/
LOCATION:WebEx
CATEGORIES:Cu Grain Structure
ORGANIZER;CN=HDP:mailto:webmaster@hdpug.org
END:VEVENT
BEGIN:VEVENT
DTSTART:20200624T170000Z
DTEND:20200624T180000Z
DTSTAMP:20260424T052611
CREATED:20200618T195328Z
LAST-MODIFIED:20200618T195328Z
UID:17582-1593000000-1593003600@hdpusergroup.org
SUMMARY:Low Ag Alloy Solderpaste June 24\, 2020 project meeting
DESCRIPTION:Low Ag Alloy Solderpaste June 24\, 2020 project meeting 
URL:https://hdpusergroup.org/event/low-ag-alloy-solderpaste-june-24-2020-project-meeting/
LOCATION:WebEx
CATEGORIES:Low Ag Alloy Solderpaste Reliability – BGA Leg
ORGANIZER;CN=HDP:mailto:webmaster@hdpug.org
END:VEVENT
BEGIN:VEVENT
DTSTART:20200624T180000Z
DTEND:20200624T190000Z
DTSTAMP:20260424T052611
CREATED:20200602T184125Z
LAST-MODIFIED:20200602T184125Z
UID:17488-1593003600-1593007200@hdpusergroup.org
SUMMARY:Glass Type Comparison June 24\, 2020 project meeting
DESCRIPTION:Glass Type Comparison June 24\, 2020 project meeting 
URL:https://hdpusergroup.org/event/glass-type-comparison-june-24-2020-project-meeting/
LOCATION:WebEx
CATEGORIES:Glass Type Composition
ORGANIZER;CN=HDP:mailto:webmaster@hdpug.org
END:VEVENT
END:VCALENDAR