BEGIN:VCALENDAR
VERSION:2.0
PRODID:-//HDP User Group - ECPv6.10.1.1//NONSGML v1.0//EN
CALSCALE:GREGORIAN
METHOD:PUBLISH
X-ORIGINAL-URL:https://hdpusergroup.org
X-WR-CALDESC:Events for HDP User Group
REFRESH-INTERVAL;VALUE=DURATION:PT1H
X-Robots-Tag:noindex
X-PUBLISHED-TTL:PT1H
BEGIN:VTIMEZONE
TZID:America/Chicago
BEGIN:DAYLIGHT
TZOFFSETFROM:-0600
TZOFFSETTO:-0500
TZNAME:CDT
DTSTART:20200308T080000
END:DAYLIGHT
BEGIN:STANDARD
TZOFFSETFROM:-0500
TZOFFSETTO:-0600
TZNAME:CST
DTSTART:20201101T070000
END:STANDARD
END:VTIMEZONE
BEGIN:VEVENT
DTSTART:20200529T130000Z
DTEND:20200529T220000Z
DTSTAMP:20260424T092000
CREATED:20210825T013109Z
LAST-MODIFIED:20210825T013109Z
UID:17472-1590739200-1590771600@hdpusergroup.org
SUMMARY:HDP May 2020 Project Updates
DESCRIPTION:As you are aware\, the recent Global COVID-19 outbreak has caused many restrictions on travel. It has caused companies to place restrictions on employee’s participation in conferences and external events. Our members’ safety is paramount\, and the logistics requirements have made it difficult to hold a safe\, successful meeting. \nWe felt it very important to keep you\, as our members\, informed as to the status of the project work\, which has continued. We have set up a web page where you can download project update presentations.  At the end of each presentation there contact information of the project facilitator who can help with questions. \nThanks for your support of HDP and be safe. \n 
URL:https://hdpusergroup.org/event/hdp-may-2020-project-updates/
CATEGORIES:Member Meetings
ORGANIZER;CN=HDP:mailto:webmaster@hdpug.org
END:VEVENT
BEGIN:VEVENT
DTSTART:20200529T180000Z
DTEND:20200529T190000Z
DTSTAMP:20260424T092000
CREATED:20200526T140204Z
LAST-MODIFIED:20200526T140204Z
UID:17457-1590757200-1590760800@hdpusergroup.org
SUMMARY:DISC2A
DESCRIPTION:Good news announcement and how do we work to start on the top three choices voted on. 
URL:https://hdpusergroup.org/event/disc2a-5/
CATEGORIES:Digital Speckle Correlation (DSC) 2
ORGANIZER;CN=HDP:mailto:webmaster@hdpug.org
END:VEVENT
END:VCALENDAR