BEGIN:VCALENDAR
VERSION:2.0
PRODID:-//HDP User Group - ECPv6.10.1.1//NONSGML v1.0//EN
CALSCALE:GREGORIAN
METHOD:PUBLISH
X-ORIGINAL-URL:https://hdpusergroup.org
X-WR-CALDESC:Events for HDP User Group
REFRESH-INTERVAL;VALUE=DURATION:PT1H
X-Robots-Tag:noindex
X-PUBLISHED-TTL:PT1H
BEGIN:VTIMEZONE
TZID:America/Chicago
BEGIN:DAYLIGHT
TZOFFSETFROM:-0600
TZOFFSETTO:-0500
TZNAME:CDT
DTSTART:20200308T080000
END:DAYLIGHT
BEGIN:STANDARD
TZOFFSETFROM:-0500
TZOFFSETTO:-0600
TZNAME:CST
DTSTART:20201101T070000
END:STANDARD
END:VTIMEZONE
BEGIN:VEVENT
DTSTART:20200513T160000Z
DTEND:20200513T170000Z
DTSTAMP:20260424T064936
CREATED:20200512T163652Z
LAST-MODIFIED:20200512T163652Z
UID:17378-1589367600-1589371200@hdpusergroup.org
SUMMARY:Cu Foil Surface Treatment May 13\, 2020 project meeting
DESCRIPTION:Cu Foil Surface Treatment May 13\, 2020 project meeting 
URL:https://hdpusergroup.org/event/cu-foil-surface-treatment-may-13-2020-project-meeting/
LOCATION:WebEx
CATEGORIES:Cu Grain Structure
ORGANIZER;CN=HDP:mailto:webmaster@hdpug.org
END:VEVENT
BEGIN:VEVENT
DTSTART:20200513T170000Z
DTEND:20200513T180000Z
DTSTAMP:20260424T064936
CREATED:20200512T164217Z
LAST-MODIFIED:20200512T164217Z
UID:17379-1589371200-1589374800@hdpusergroup.org
SUMMARY:Low Ag Alloy Solderpaste May 13\, 2020 project meeting
DESCRIPTION:Low Ag Alloy Solderpaste May 13\, 2020 project meeting 
URL:https://hdpusergroup.org/event/low-ag-alloy-solderpaste-may-13-2020-project-meeting/
LOCATION:WebEx
CATEGORIES:Low Ag Alloy Solderpaste Reliability – BGA Leg
ORGANIZER;CN=HDP:mailto:webmaster@hdpug.org
END:VEVENT
BEGIN:VEVENT
DTSTART:20200513T180000Z
DTEND:20200513T190000Z
DTSTAMP:20260424T064936
CREATED:20200512T164602Z
LAST-MODIFIED:20200512T164602Z
UID:17380-1589374800-1589378400@hdpusergroup.org
SUMMARY:Glass Type Comparison May 13\, 2020 Project meeting
DESCRIPTION:Glass Type Comparison May 13\, 2020 Project meeting 
URL:https://hdpusergroup.org/event/glass-type-comparison-may-13-2020-project-meeting/
LOCATION:WebEx
CATEGORIES:Glass Type Composition
ORGANIZER;CN=HDP:mailto:webmaster@hdpug.org
END:VEVENT
BEGIN:VEVENT
DTSTART:20200513T200000Z
DTEND:20200513T210000Z
DTSTAMP:20260424T064936
CREATED:20200511T212832Z
LAST-MODIFIED:20200511T212832Z
UID:17374-1589382000-1589385600@hdpusergroup.org
SUMMARY:Photonics Solder Team Call
DESCRIPTION:Photonic Soldering Team Call 
URL:https://hdpusergroup.org/event/photonics-solder-team-call/
CATEGORIES:Photonic Soldering
ORGANIZER;CN=HDP:mailto:webmaster@hdpug.org
END:VEVENT
BEGIN:VEVENT
DTSTART:20200514T010000Z
DTEND:20200514T020000Z
DTSTAMP:20260424T064936
CREATED:20200409T035211Z
LAST-MODIFIED:20200409T035211Z
UID:16814-1589400000-1589403600@hdpusergroup.org
SUMMARY:PTH Creep Fatigue Under Roughness Influence Project Call
DESCRIPTION:PTH Creep Fatigue Under Roughness Influence Project Call 
URL:https://hdpusergroup.org/event/pth-creep-fatigue-under-roughness-influence-project-call-11/
CATEGORIES:PTH Creep Fatigue Under Roughness Influence
ORGANIZER;CN=HDP:mailto:webmaster@hdpug.org
END:VEVENT
END:VCALENDAR