BEGIN:VCALENDAR
VERSION:2.0
PRODID:-//HDP User Group - ECPv6.10.1.1//NONSGML v1.0//EN
CALSCALE:GREGORIAN
METHOD:PUBLISH
X-ORIGINAL-URL:https://hdpusergroup.org
X-WR-CALDESC:Events for HDP User Group
REFRESH-INTERVAL;VALUE=DURATION:PT1H
X-Robots-Tag:noindex
X-PUBLISHED-TTL:PT1H
BEGIN:VTIMEZONE
TZID:America/Chicago
BEGIN:DAYLIGHT
TZOFFSETFROM:-0600
TZOFFSETTO:-0500
TZNAME:CDT
DTSTART:20200308T080000
END:DAYLIGHT
BEGIN:STANDARD
TZOFFSETFROM:-0500
TZOFFSETTO:-0600
TZNAME:CST
DTSTART:20201101T070000
END:STANDARD
END:VTIMEZONE
BEGIN:VEVENT
DTSTART:20200506T150000Z
DTEND:20200506T160000Z
DTSTAMP:20260424T064844
CREATED:20200408T152601Z
LAST-MODIFIED:20200408T152601Z
UID:16806-1588759200-1588762800@hdpusergroup.org
SUMMARY:Materials #6 Call
DESCRIPTION:Meeting \n  
URL:https://hdpusergroup.org/event/materials-6-call-2/
CATEGORIES:Lead Free PWB Materials Reliability Phase 6
ORGANIZER;CN=HDP:mailto:webmaster@hdpug.org
END:VEVENT
BEGIN:VEVENT
DTSTART:20200506T180000Z
DTEND:20200506T190000Z
DTSTAMP:20260424T064844
CREATED:20200506T131639Z
LAST-MODIFIED:20200506T131639Z
UID:17357-1588770000-1588773600@hdpusergroup.org
SUMMARY:Logo Call
DESCRIPTION:Martin\, Smitty\, Kim logo call 
URL:https://hdpusergroup.org/event/logo-call-5/
CATEGORIES:Staff Calendar
ORGANIZER;CN=HDP:mailto:webmaster@hdpug.org
END:VEVENT
BEGIN:VEVENT
DTSTART:20200507T010000Z
DTEND:20200507T020000Z
DTSTAMP:20260424T064844
CREATED:20200429T125414Z
LAST-MODIFIED:20200429T125414Z
UID:17330-1588795200-1588798800@hdpusergroup.org
SUMMARY:Haesung call to discuss questions
DESCRIPTION:Call to discuss IS Bae questions 
URL:https://hdpusergroup.org/event/haesung-call-to-discuss-questions/
CATEGORIES:Staff Calendar
ORGANIZER;CN=HDP:mailto:webmaster@hdpug.org
END:VEVENT
END:VCALENDAR