BEGIN:VCALENDAR
VERSION:2.0
PRODID:-//HDP User Group - ECPv6.10.1.1//NONSGML v1.0//EN
CALSCALE:GREGORIAN
METHOD:PUBLISH
X-ORIGINAL-URL:https://hdpusergroup.org
X-WR-CALDESC:Events for HDP User Group
REFRESH-INTERVAL;VALUE=DURATION:PT1H
X-Robots-Tag:noindex
X-PUBLISHED-TTL:PT1H
BEGIN:VTIMEZONE
TZID:America/Chicago
BEGIN:DAYLIGHT
TZOFFSETFROM:-0600
TZOFFSETTO:-0500
TZNAME:CDT
DTSTART:20200308T080000
END:DAYLIGHT
BEGIN:STANDARD
TZOFFSETFROM:-0500
TZOFFSETTO:-0600
TZNAME:CST
DTSTART:20201101T070000
END:STANDARD
END:VTIMEZONE
BEGIN:VEVENT
DTSTART:20200422T200000Z
DTEND:20200422T210000Z
DTSTAMP:20260424T095625
CREATED:20200415T210651Z
LAST-MODIFIED:20200415T210651Z
UID:16831-1587567600-1587571200@hdpusergroup.org
SUMMARY:Photonic Soldering
DESCRIPTION:Hopefully Rusty will have been able to get into the plant to answer several questions.  Continue working on other aspects of the project planning. 
URL:https://hdpusergroup.org/event/photonic-soldering-8/
CATEGORIES:Photonic Soldering
ORGANIZER;CN=HDP:mailto:webmaster@hdpug.org
END:VEVENT
BEGIN:VEVENT
DTSTART:20200422T210000Z
DTEND:20200422T220000Z
DTSTAMP:20260424T095625
CREATED:20200421T225059Z
LAST-MODIFIED:20200421T225059Z
UID:16960-1587571200-1587574800@hdpusergroup.org
SUMMARY:Photonic Soldering Weekly Call - Reschedule
DESCRIPTION:Reschedule of our Project Call 
URL:https://hdpusergroup.org/event/photonic-soldering-weekly-call-reschedule/
CATEGORIES:Photonic Soldering
ORGANIZER;CN=HDP:mailto:webmaster@hdpug.org
END:VEVENT
END:VCALENDAR