BEGIN:VCALENDAR
VERSION:2.0
PRODID:-//HDP User Group - ECPv6.10.1.1//NONSGML v1.0//EN
CALSCALE:GREGORIAN
METHOD:PUBLISH
X-ORIGINAL-URL:https://hdpusergroup.org
X-WR-CALDESC:Events for HDP User Group
REFRESH-INTERVAL;VALUE=DURATION:PT1H
X-Robots-Tag:noindex
X-PUBLISHED-TTL:PT1H
BEGIN:VTIMEZONE
TZID:America/Chicago
BEGIN:DAYLIGHT
TZOFFSETFROM:-0600
TZOFFSETTO:-0500
TZNAME:CDT
DTSTART:20200308T080000
END:DAYLIGHT
BEGIN:STANDARD
TZOFFSETFROM:-0500
TZOFFSETTO:-0600
TZNAME:CST
DTSTART:20201101T070000
END:STANDARD
END:VTIMEZONE
BEGIN:VEVENT
DTSTART:20200408T150000Z
DTEND:20200408T160000Z
DTSTAMP:20260424T095515
CREATED:20200311T152521Z
LAST-MODIFIED:20200311T152521Z
UID:15973-1586340000-1586343600@hdpusergroup.org
SUMMARY:Materials #6 Call
DESCRIPTION:Project Meeting \n  
URL:https://hdpusergroup.org/event/materials-6-call/
CATEGORIES:Lead Free PWB Materials Reliability Phase 6
ORGANIZER;CN=HDP:mailto:webmaster@hdpug.org
END:VEVENT
BEGIN:VEVENT
DTSTART:20200408T200000Z
DTEND:20200408T210000Z
DTSTAMP:20260424T095515
CREATED:20200407T112831Z
LAST-MODIFIED:20200407T112831Z
UID:16800-1586358000-1586361600@hdpusergroup.org
SUMMARY:Photonic Soldering
DESCRIPTION:See if we can fill in more of the boxes on the check list for the project.  We cannot determine if we can use old board already assembled or have to populate bare boards or have new bare boards built and thenpopulated \, as Rusty cannot get into the plant because of the curent situation. 
URL:https://hdpusergroup.org/event/photonic-soldering-6/
CATEGORIES:Photonic Soldering
ORGANIZER;CN=HDP:mailto:webmaster@hdpug.org
END:VEVENT
BEGIN:VEVENT
DTSTART:20200409T000000Z
DTEND:20200409T010000Z
DTSTAMP:20260424T095515
CREATED:20200403T210419Z
LAST-MODIFIED:20200403T210419Z
UID:16671-1586372400-1586376000@hdpusergroup.org
SUMMARY:Lead Frame Surface finish
DESCRIPTION:Call to discuss DOE and ASE 
URL:https://hdpusergroup.org/event/lead-frame-surface-finish/
CATEGORIES:Staff Calendar
ORGANIZER;CN=HDP:mailto:webmaster@hdpug.org
END:VEVENT
BEGIN:VEVENT
DTSTART:20200409T010000Z
DTEND:20200409T020000Z
DTSTAMP:20260424T095515
CREATED:20200305T014157Z
LAST-MODIFIED:20200305T014157Z
UID:15895-1586376000-1586379600@hdpusergroup.org
SUMMARY:PTH Creep Fatigue Under Roughness Influence Project Call
DESCRIPTION:PTH Creep Fatigue Under Roughness Influence Project Call 
URL:https://hdpusergroup.org/event/pth-creep-fatigue-under-roughness-influence-project-call-10/
CATEGORIES:PTH Creep Fatigue Under Roughness Influence
ORGANIZER;CN=HDP:mailto:webmaster@hdpug.org
END:VEVENT
END:VCALENDAR