BEGIN:VCALENDAR
VERSION:2.0
PRODID:-//HDP User Group - ECPv6.10.1.1//NONSGML v1.0//EN
CALSCALE:GREGORIAN
METHOD:PUBLISH
X-ORIGINAL-URL:https://hdpusergroup.org
X-WR-CALDESC:Events for HDP User Group
REFRESH-INTERVAL;VALUE=DURATION:PT1H
X-Robots-Tag:noindex
X-PUBLISHED-TTL:PT1H
BEGIN:VTIMEZONE
TZID:America/Chicago
BEGIN:DAYLIGHT
TZOFFSETFROM:-0600
TZOFFSETTO:-0500
TZNAME:CDT
DTSTART:20200308T080000
END:DAYLIGHT
BEGIN:STANDARD
TZOFFSETFROM:-0500
TZOFFSETTO:-0600
TZNAME:CST
DTSTART:20201101T070000
END:STANDARD
END:VTIMEZONE
BEGIN:VEVENT
DTSTART:20200303T170000Z
DTEND:20200303T180000Z
DTSTAMP:20260424T111621
CREATED:20200223T165518Z
LAST-MODIFIED:20200223T165518Z
UID:15790-1583233200-1583236800@hdpusergroup.org
SUMMARY:Photonic Soldering
DESCRIPTION:Start building a flow chart\, put in dates and volunteers for various actions. 
URL:https://hdpusergroup.org/event/photonic-soldering-3/
CATEGORIES:Photonic Soldering
ORGANIZER;CN=HDP:mailto:webmaster@hdpug.org
END:VEVENT
BEGIN:VEVENT
DTSTART:20200303T180000Z
DTEND:20200303T190000Z
DTSTAMP:20260424T111621
CREATED:20200206T152536Z
LAST-MODIFIED:20200206T152536Z
UID:15745-1583236800-1583240400@hdpusergroup.org
SUMMARY:Harsh Use Alloy
DESCRIPTION:Discuss Phase 2 
URL:https://hdpusergroup.org/event/harsh-use-alloy/
CATEGORIES:Harsh Use Environment Alloy Evaluation
ORGANIZER;CN=HDP:mailto:webmaster@hdpug.org
END:VEVENT
BEGIN:VEVENT
DTSTART:20200303T190000Z
DTEND:20200303T200000Z
DTSTAMP:20260424T111621
CREATED:20200225T145607Z
LAST-MODIFIED:20200225T145607Z
UID:15807-1583240400-1583244000@hdpusergroup.org
SUMMARY:RF Failure Detection
DESCRIPTION:Work on final report 
URL:https://hdpusergroup.org/event/rf-failure-detection-13/
CATEGORIES:RF Failure Detection
ORGANIZER;CN=HDP:mailto:webmaster@hdpug.org
END:VEVENT
BEGIN:VEVENT
DTSTART:20200304T010000Z
DTEND:20200304T020000Z
DTSTAMP:20260424T111621
CREATED:20200218T032005Z
LAST-MODIFIED:20200218T032005Z
UID:15785-1583262000-1583265600@hdpusergroup.org
SUMMARY:High Speed Hybrid PWB - Screening Test for Adhesion Project Call
DESCRIPTION:High Speed Hybrid PWB - Screening Test for Adhesion Project Call 
URL:https://hdpusergroup.org/event/high-speed-hybrid-pwb-screening-test-for-adhesion-project-call/
CATEGORIES:High Speed Hybrid PWB
ORGANIZER;CN=HDP:mailto:webmaster@hdpug.org
END:VEVENT
END:VCALENDAR